BEGIN:VCALENDAR
VERSION:2.0
PRODID:-//City of Whitehorse - ECPv6.15.17.1//NONSGML v1.0//EN
CALSCALE:GREGORIAN
METHOD:PUBLISH
X-WR-CALNAME:City of Whitehorse
X-ORIGINAL-URL:https://www.whitehorse.ca
X-WR-CALDESC:Events for City of Whitehorse
REFRESH-INTERVAL;VALUE=DURATION:PT1H
X-Robots-Tag:noindex
X-PUBLISHED-TTL:PT1H
BEGIN:VTIMEZONE
TZID:America/Whitehorse
BEGIN:STANDARD
TZOFFSETFROM:-0700
TZOFFSETTO:-0700
TZNAME:MST
DTSTART:20210101T000000
END:STANDARD
END:VTIMEZONE
BEGIN:VEVENT
DTSTART;TZID=America/Whitehorse:20220928T090000
DTEND;TZID=America/Whitehorse:20220928T130000
DTSTAMP:20260420T044458
CREATED:20220824T190404Z
LAST-MODIFIED:20220921T213519Z
UID:6559-1664355600-1664370000@www.whitehorse.ca
SUMMARY:Family Swim
DESCRIPTION:Spend family time together in the Leisure Pool. All children must be with an adult and all adults must be with children. Limited features and some toys available.\nPlease note: Children 0-6 years must be within arms’ reach of an adult at all times\, and a ratio of 1 adult to 3 children is enforced.
URL:https://www.whitehorse.ca/event/family-swim-7-2022-09-28/
LOCATION:Leisure Pool
CATEGORIES:Swimming
END:VEVENT
BEGIN:VEVENT
DTSTART;TZID=America/Whitehorse:20220928T110000
DTEND;TZID=America/Whitehorse:20220928T130000
DTSTAMP:20260420T044458
CREATED:20220825T162105Z
LAST-MODIFIED:20220921T220317Z
UID:7094-1664362800-1664370000@www.whitehorse.ca
SUMMARY:Public Skate
DESCRIPTION:A time for everyone to grab their skates and enjoy our indoor facility.\nHelmets are strongly recommended for children.
URL:https://www.whitehorse.ca/event/public-skate-2-2022-09-28/
LOCATION:ATCO Ice
CATEGORIES:Skating
END:VEVENT
BEGIN:VEVENT
DTSTART;TZID=America/Whitehorse:20220928T130000
DTEND;TZID=America/Whitehorse:20220928T200000
DTSTAMP:20260420T044458
CREATED:20220823T221931Z
LAST-MODIFIED:20220921T213605Z
UID:5925-1664370000-1664395200@www.whitehorse.ca
SUMMARY:Public Swim
DESCRIPTION:The lap pool\, diving board\, leisure pool\, water slide are available for all to enjoy. Limited features and no toys available.
URL:https://www.whitehorse.ca/event/public-swim-7-2022-09-28/
LOCATION:Leisure Pool + Lap Pool
CATEGORIES:Swimming
END:VEVENT
BEGIN:VEVENT
DTSTART;TZID=America/Whitehorse:20220928T140000
DTEND;TZID=America/Whitehorse:20220928T151500
DTSTAMP:20260420T044458
CREATED:20220921T220720Z
LAST-MODIFIED:20220921T220720Z
UID:9042-1664373600-1664378100@www.whitehorse.ca
SUMMARY:Teen Pucks n Sticks
DESCRIPTION:Ages: 10 – 17 years* \nPractice skating\, stick handling and shooting skills. Pick-up games of hockey are not allowed during this time.\nHelmets and gloves are mandatory. \n* An adult is welcome to accompany their teen on the ice during this time.
URL:https://www.whitehorse.ca/event/teen-pucks-n-sticks-4/2022-09-28/
LOCATION:ATCO Ice
CATEGORIES:Skating
END:VEVENT
END:VCALENDAR