BEGIN:VCALENDAR
VERSION:2.0
PRODID:-//City of Whitehorse - ECPv6.15.17.1//NONSGML v1.0//EN
CALSCALE:GREGORIAN
METHOD:PUBLISH
X-ORIGINAL-URL:https://www.whitehorse.ca
X-WR-CALDESC:Events for City of Whitehorse
REFRESH-INTERVAL;VALUE=DURATION:PT1H
X-Robots-Tag:noindex
X-PUBLISHED-TTL:PT1H
BEGIN:VTIMEZONE
TZID:America/Whitehorse
BEGIN:STANDARD
TZOFFSETFROM:-0700
TZOFFSETTO:-0700
TZNAME:MST
DTSTART:20210101T000000
END:STANDARD
END:VTIMEZONE
BEGIN:VEVENT
DTSTART;TZID=America/Whitehorse:20221106T070000
DTEND;TZID=America/Whitehorse:20221106T130000
DTSTAMP:20260420T173152
CREATED:20220824T190404Z
LAST-MODIFIED:20221026T165741Z
UID:9261-1667718000-1667739600@www.whitehorse.ca
SUMMARY:Family Swim
DESCRIPTION:Spend family time together in the Leisure Pool. All children must be with an adult and all adults must be with children. Limited features and some toys available.\nPlease note: Children 0-6 years must be within arms’ reach of an adult at all times\, and a ratio of 1 adult to 3 children is enforced.
URL:https://www.whitehorse.ca/event/family-swim-7-2022-11-06/
LOCATION:Leisure Pool
CATEGORIES:Swimming
END:VEVENT
END:VCALENDAR