BEGIN:VCALENDAR
VERSION:2.0
PRODID:-//City of Whitehorse - ECPv6.15.17.1//NONSGML v1.0//EN
CALSCALE:GREGORIAN
METHOD:PUBLISH
X-WR-CALNAME:City of Whitehorse
X-ORIGINAL-URL:https://www.whitehorse.ca
X-WR-CALDESC:Events for City of Whitehorse
REFRESH-INTERVAL;VALUE=DURATION:PT1H
X-Robots-Tag:noindex
X-PUBLISHED-TTL:PT1H
BEGIN:VTIMEZONE
TZID:America/Whitehorse
BEGIN:STANDARD
TZOFFSETFROM:-0700
TZOFFSETTO:-0700
TZNAME:MST
DTSTART:20210101T000000
END:STANDARD
END:VTIMEZONE
BEGIN:VEVENT
DTSTART;VALUE=DATE:20221227
DTEND;VALUE=DATE:20221228
DTSTAMP:20260424T115536
CREATED:20221219T182029Z
LAST-MODIFIED:20221219T182029Z
UID:10249-1672099200-1672185599@www.whitehorse.ca
SUMMARY:Office closures
DESCRIPTION:Most City offices are closed on Tuesday\, December 27. \nWeekend service will be in effect for Transit. \nThe Canada Games Centre\, Frank Slim Building and the Waste Management Facility are open\, and curbside collection will continue as normal. \nFor complaints outside of office hours\, please call the Trouble Line at 667-2111\, and in the event of an emergency\, please call 9-1-1.
URL:https://www.whitehorse.ca/event/office-closures/
CATEGORIES:Holidays
END:VEVENT
BEGIN:VEVENT
DTSTART;TZID=America/Whitehorse:20221227T053000
DTEND;TZID=America/Whitehorse:20221227T130000
DTSTAMP:20260424T115536
CREATED:20221201T171936Z
LAST-MODIFIED:20221201T172836Z
UID:9710-1672119000-1672146000@www.whitehorse.ca
SUMMARY:Lane Swim
DESCRIPTION:Ages: 12+years. \nThe lap pool is set up for length swimming in double lanes. Swim in a circular pattern. Know your speed and choose the appropriate lane.
URL:https://www.whitehorse.ca/event/lane-swim-9-2022-12-27/
LOCATION:Lap Pool
CATEGORIES:Swimming
END:VEVENT
BEGIN:VEVENT
DTSTART;TZID=America/Whitehorse:20221227T053000
DTEND;TZID=America/Whitehorse:20221227T220000
DTSTAMP:20260424T115536
CREATED:20220824T181709Z
LAST-MODIFIED:20221201T174621Z
UID:9764-1672119000-1672178400@www.whitehorse.ca
SUMMARY:Hot Tub\, Sauna & Steam Room
DESCRIPTION:Capacity: 20 people\nAvailable on a first come first serve basis.\nRecommend maximum stay of 15 minutes for adults and 5 minutes for children. \n 
URL:https://www.whitehorse.ca/event/hot-tub-sauna-steam-room-6-2022-12-27/
LOCATION:Swimming Pool
CATEGORIES:Swimming
END:VEVENT
BEGIN:VEVENT
DTSTART;TZID=America/Whitehorse:20221227T110000
DTEND;TZID=America/Whitehorse:20221227T133000
DTSTAMP:20260424T115536
CREATED:20221202T020847Z
LAST-MODIFIED:20221202T021118Z
UID:10056-1672138800-1672147800@www.whitehorse.ca
SUMMARY:Public Skate
DESCRIPTION:A time for everyone to grab their skates and enjoy our indoor facility.\nHelmets are strongly recommended for children.
URL:https://www.whitehorse.ca/event/public-skate-4-2022-12-27/
LOCATION:ATCO Ice
CATEGORIES:Skating
END:VEVENT
BEGIN:VEVENT
DTSTART;TZID=America/Whitehorse:20221227T160000
DTEND;TZID=America/Whitehorse:20221227T220000
DTSTAMP:20260424T115536
CREATED:20221201T172955Z
LAST-MODIFIED:20221201T172955Z
UID:9719-1672156800-1672178400@www.whitehorse.ca
SUMMARY:Lane Swim
DESCRIPTION:Ages: 12+years. \nThe lap pool is set up for length swimming in double lanes. Swim in a circular pattern. Know your speed and choose the appropriate lane.
URL:https://www.whitehorse.ca/event/lane-swim-10/
LOCATION:Lap Pool
CATEGORIES:Swimming
END:VEVENT
BEGIN:VEVENT
DTSTART;TZID=America/Whitehorse:20221227T204500
DTEND;TZID=America/Whitehorse:20221227T220000
DTSTAMP:20260424T115536
CREATED:20221202T024203Z
LAST-MODIFIED:20221202T024229Z
UID:10075-1672173900-1672178400@www.whitehorse.ca
SUMMARY:Adult Shinny
DESCRIPTION:Ages: 18+ years\nJoin a pick-up game of non-contact hockey. Participants must have a “shinny” wristband. Full equipment is required and helmets are mandatory. Max 20 participants + 2 goalies.
URL:https://www.whitehorse.ca/event/adult-shinny-4-2022-12-27/
LOCATION:Northwestel Arena
CATEGORIES:Skating
END:VEVENT
END:VCALENDAR