BEGIN:VCALENDAR
VERSION:2.0
PRODID:-//City of Whitehorse - ECPv6.15.17.1//NONSGML v1.0//EN
CALSCALE:GREGORIAN
METHOD:PUBLISH
X-ORIGINAL-URL:https://www.whitehorse.ca
X-WR-CALDESC:Events for City of Whitehorse
REFRESH-INTERVAL;VALUE=DURATION:PT1H
X-Robots-Tag:noindex
X-PUBLISHED-TTL:PT1H
BEGIN:VTIMEZONE
TZID:America/Whitehorse
BEGIN:STANDARD
TZOFFSETFROM:-0700
TZOFFSETTO:-0700
TZNAME:MST
DTSTART:20210101T000000
END:STANDARD
END:VTIMEZONE
BEGIN:VEVENT
DTSTART;TZID=America/Whitehorse:20221229T053000
DTEND;TZID=America/Whitehorse:20221229T220000
DTSTAMP:20260420T155805
CREATED:20220824T181709Z
LAST-MODIFIED:20221201T174524Z
UID:9766-1672291800-1672351200@www.whitehorse.ca
SUMMARY:Hot Tub\, Sauna & Steam Room
DESCRIPTION:Capacity: 20 people\nAvailable on a first come first serve basis.\nRecommend maximum stay of 15 minutes for adults and 5 minutes for children. \n 
URL:https://www.whitehorse.ca/event/hot-tub-sauna-steam-room-6-2022-12-29/
LOCATION:Swimming Pool
CATEGORIES:Swimming
END:VEVENT
BEGIN:VEVENT
DTSTART;TZID=America/Whitehorse:20221229T103000
DTEND;TZID=America/Whitehorse:20221229T123000
DTSTAMP:20260420T155805
CREATED:20221202T020847Z
LAST-MODIFIED:20221202T021306Z
UID:10058-1672309800-1672317000@www.whitehorse.ca
SUMMARY:Public Skate
DESCRIPTION:A time for everyone to grab their skates and enjoy our indoor facility.\nHelmets are strongly recommended for children.
URL:https://www.whitehorse.ca/event/public-skate-4-2022-12-29/
LOCATION:ATCO Ice
CATEGORIES:Skating
END:VEVENT
BEGIN:VEVENT
DTSTART;TZID=America/Whitehorse:20221229T140000
DTEND;TZID=America/Whitehorse:20221229T153000
DTSTAMP:20260420T155805
CREATED:20221202T014318Z
LAST-MODIFIED:20221202T014318Z
UID:10022-1672322400-1672327800@www.whitehorse.ca
SUMMARY:Pickleball
DESCRIPTION:Pickleball racquet and ball available for rent: $3.95 each (free with 6 Month or 1 Year Membership).
URL:https://www.whitehorse.ca/event/pickleball-10/
LOCATION:Powerade Flexihall
CATEGORIES:Flexi Activities
END:VEVENT
END:VCALENDAR