BEGIN:VCALENDAR
VERSION:2.0
PRODID:-//City of Whitehorse - ECPv6.15.17.1//NONSGML v1.0//EN
CALSCALE:GREGORIAN
METHOD:PUBLISH
X-WR-CALNAME:City of Whitehorse
X-ORIGINAL-URL:https://www.whitehorse.ca
X-WR-CALDESC:Events for City of Whitehorse
REFRESH-INTERVAL;VALUE=DURATION:PT1H
X-Robots-Tag:noindex
X-PUBLISHED-TTL:PT1H
BEGIN:VTIMEZONE
TZID:America/Whitehorse
BEGIN:STANDARD
TZOFFSETFROM:-0700
TZOFFSETTO:-0700
TZNAME:MST
DTSTART:20210101T000000
END:STANDARD
END:VTIMEZONE
BEGIN:VEVENT
DTSTART;TZID=America/Whitehorse:20221231T070000
DTEND;TZID=America/Whitehorse:20221231T180000
DTSTAMP:20260420T122213
CREATED:20220824T181709Z
LAST-MODIFIED:20221201T174444Z
UID:9768-1672470000-1672509600@www.whitehorse.ca
SUMMARY:Hot Tub\, Sauna & Steam Room
DESCRIPTION:Capacity: 20 people\nAvailable on a first come first serve basis.\nRecommend maximum stay of 15 minutes for adults and 5 minutes for children. \n 
URL:https://www.whitehorse.ca/event/hot-tub-sauna-steam-room-6-2022-12-31/
LOCATION:Swimming Pool
CATEGORIES:Swimming
END:VEVENT
BEGIN:VEVENT
DTSTART;TZID=America/Whitehorse:20221231T070000
DTEND;TZID=America/Whitehorse:20221231T180000
DTSTAMP:20260420T122213
CREATED:20221201T171936Z
LAST-MODIFIED:20221201T172203Z
UID:9714-1672470000-1672509600@www.whitehorse.ca
SUMMARY:Lane Swim
DESCRIPTION:Ages: 12+years. \nThe lap pool is set up for length swimming in double lanes. Swim in a circular pattern. Know your speed and choose the appropriate lane.
URL:https://www.whitehorse.ca/event/lane-swim-9-2022-12-31/
LOCATION:Lap Pool
CATEGORIES:Swimming
END:VEVENT
BEGIN:VEVENT
DTSTART;TZID=America/Whitehorse:20221231T080000
DTEND;TZID=America/Whitehorse:20221231T130000
DTSTAMP:20260420T122213
CREATED:20220825T172954Z
LAST-MODIFIED:20221201T214950Z
UID:9922-1672473600-1672491600@www.whitehorse.ca
SUMMARY:Soccer
DESCRIPTION:A time to come and practice your soccer skills.
URL:https://www.whitehorse.ca/event/soccer-6-2022-12-31/
LOCATION:Coca-Cola Fieldhouse
CATEGORIES:Field Activities
END:VEVENT
BEGIN:VEVENT
DTSTART;TZID=America/Whitehorse:20221231T080000
DTEND;TZID=America/Whitehorse:20221231T130000
DTSTAMP:20260420T122213
CREATED:20221201T223321Z
LAST-MODIFIED:20221202T014604Z
UID:9989-1672473600-1672491600@www.whitehorse.ca
SUMMARY:Pickleball
DESCRIPTION:Pickleball racquet and ball available for rent: $3.95 each (free with 6 Month or 1 Year Membership).
URL:https://www.whitehorse.ca/event/pickleball-8-2022-12-31/
LOCATION:Powerade Flexihall
CATEGORIES:Flexi Activities
END:VEVENT
BEGIN:VEVENT
DTSTART;TZID=America/Whitehorse:20221231T080000
DTEND;TZID=America/Whitehorse:20221231T180000
DTSTAMP:20260420T122213
CREATED:20221201T221743Z
LAST-MODIFIED:20221202T014633Z
UID:9961-1672473600-1672509600@www.whitehorse.ca
SUMMARY:Basketball
DESCRIPTION:A time to come and practice your basketball skills.  Basketballs provided with collateral. \n 
URL:https://www.whitehorse.ca/event/basketball-6-2022-12-31/
LOCATION:Powerade Flexihall
CATEGORIES:Flexi Activities
END:VEVENT
BEGIN:VEVENT
DTSTART;TZID=America/Whitehorse:20221231T080000
DTEND;TZID=America/Whitehorse:20221231T180000
DTSTAMP:20260420T122213
CREATED:20221202T013051Z
LAST-MODIFIED:20221202T013120Z
UID:10018-1672473600-1672509600@www.whitehorse.ca
SUMMARY:Motoring Munchkins
DESCRIPTION:A time for preschoolers to ride their bikes\, trikes and other ride-on toys….anything with wheels! Bring your own bike or use one of our plasma car\, scooter or run-bike.
URL:https://www.whitehorse.ca/event/motoring-munchkins-5-2022-12-31/
LOCATION:Powerade Flexihall
CATEGORIES:Flexi Activities
END:VEVENT
BEGIN:VEVENT
DTSTART;TZID=America/Whitehorse:20221231T120000
DTEND;TZID=America/Whitehorse:20221231T140000
DTSTAMP:20260420T122213
CREATED:20221202T035908Z
LAST-MODIFIED:20221202T035908Z
UID:10097-1672488000-1672495200@www.whitehorse.ca
SUMMARY:Family Pucks n Sticks
DESCRIPTION:Ages:  Children up to age 9 accompanied on ice by an adult. \nPractice skating\, stick handling and shooting skills. Pick-up games of hockey are not allowed during this time.\nHelmets and gloves are mandatory.
URL:https://www.whitehorse.ca/event/family-pucks-n-sticks-8/
LOCATION:ATCO Ice
CATEGORIES:Skating
END:VEVENT
BEGIN:VEVENT
DTSTART;TZID=America/Whitehorse:20221231T130000
DTEND;TZID=America/Whitehorse:20221231T180000
DTSTAMP:20260420T122213
CREATED:20221201T194933Z
LAST-MODIFIED:20221201T202457Z
UID:9833-1672491600-1672509600@www.whitehorse.ca
SUMMARY:Public Swim
DESCRIPTION:The lap pool\, diving board\, leisure pool\, water slide are available for all to enjoy. Limited features and no toys available.
URL:https://www.whitehorse.ca/event/public-swim-10-2022-12-31/
LOCATION:Leisure Pool + Lap Pool
CATEGORIES:Swimming
END:VEVENT
BEGIN:VEVENT
DTSTART;TZID=America/Whitehorse:20221231T130000
DTEND;TZID=America/Whitehorse:20221231T180000
DTSTAMP:20260420T122213
CREATED:20221201T210513Z
LAST-MODIFIED:20221201T210615Z
UID:9888-1672491600-1672509600@www.whitehorse.ca
SUMMARY:Families on the Move
DESCRIPTION:A time for caregivers with young children to explore\, create\, imagine\, and play together. Toys and equipment provided. This activity has limited space\, so please check in at Reception prior to use to ensure availability.
URL:https://www.whitehorse.ca/event/families-on-the-move-12-2022-12-31/
LOCATION:Coca-Cola Fieldhouse
CATEGORIES:Field Activities
END:VEVENT
BEGIN:VEVENT
DTSTART;TZID=America/Whitehorse:20221231T133000
DTEND;TZID=America/Whitehorse:20221231T150000
DTSTAMP:20260420T122213
CREATED:20221215T204814Z
LAST-MODIFIED:20221216T182915Z
UID:10236-1672493400-1672498800@www.whitehorse.ca
SUMMARY:Free Crafts in the Kids Club
DESCRIPTION:Geared to 5-12 year old.  Join us in the Kids Club for crafts.
URL:https://www.whitehorse.ca/event/free-crafts-in-the-kids-club/
LOCATION:Coca-Cola Fieldhouse
CATEGORIES:CGC Special Events
ATTACH;FMTTYPE=image/jpeg:https://www.whitehorse.ca/wp-content/uploads/2022/12/2022_New-Years-Activities_thumbnail-scaled.jpg
END:VEVENT
BEGIN:VEVENT
DTSTART;TZID=America/Whitehorse:20221231T140000
DTEND;TZID=America/Whitehorse:20221231T160000
DTSTAMP:20260420T122213
CREATED:20221202T040000Z
LAST-MODIFIED:20221202T040000Z
UID:10098-1672495200-1672502400@www.whitehorse.ca
SUMMARY:Teen Pucks n Sticks
DESCRIPTION:Ages: 10 – 17 years* \nPractice skating\, stick handling and shooting skills. Pick-up games of hockey are not allowed during this time.\nHelmets and gloves are mandatory. \n* An adult is welcome to accompany their teen on the ice during this time.
URL:https://www.whitehorse.ca/event/teen-pucks-n-sticks-11/
LOCATION:Northwestel Arena
CATEGORIES:Skating
END:VEVENT
BEGIN:VEVENT
DTSTART;TZID=America/Whitehorse:20221231T140000
DTEND;TZID=America/Whitehorse:20221231T180000
DTSTAMP:20260420T122213
CREATED:20220825T205534Z
LAST-MODIFIED:20221202T014713Z
UID:9965-1672495200-1672509600@www.whitehorse.ca
SUMMARY:Volleyball
DESCRIPTION:Join a pick-up game of volleyball. Volleyballs provided with collateral.
URL:https://www.whitehorse.ca/event/volleyball-3-2022-12-31/
LOCATION:Powerade Flexihall
CATEGORIES:Flexi Activities
END:VEVENT
BEGIN:VEVENT
DTSTART;TZID=America/Whitehorse:20221231T150000
DTEND;TZID=America/Whitehorse:20221231T173000
DTSTAMP:20260420T122213
CREATED:20221202T020847Z
LAST-MODIFIED:20221216T182904Z
UID:10060-1672498800-1672507800@www.whitehorse.ca
SUMMARY:Free Public Skate
DESCRIPTION:All welcome.  Free skate rentals available. \nHelmets are strongly recommended for children.
URL:https://www.whitehorse.ca/event/public-skate-4-2022-12-31/
LOCATION:ATCO Ice
CATEGORIES:CGC Special Events,Skating
ATTACH;FMTTYPE=image/jpeg:https://www.whitehorse.ca/wp-content/uploads/2022/12/2022_New-Years-Activities_thumbnail-scaled.jpg
END:VEVENT
BEGIN:VEVENT
DTSTART;TZID=America/Whitehorse:20221231T150000
DTEND;TZID=America/Whitehorse:20221231T173000
DTSTAMP:20260420T122213
CREATED:20221215T204701Z
LAST-MODIFIED:20221216T182430Z
UID:10235-1672498800-1672507800@www.whitehorse.ca
SUMMARY:Free Facilitated Games
DESCRIPTION:“I passed through the seven levels of the candy cane forest\, through the sea of swirly-twirly gum drops”… Join our staff in a candy land themed obstacle course catered towards children 5 – 12 years.
URL:https://www.whitehorse.ca/event/free-facilitated-games/
LOCATION:Coca-Cola Fieldhouse
CATEGORIES:CGC Special Events,Field Activities
ATTACH;FMTTYPE=image/jpeg:https://www.whitehorse.ca/wp-content/uploads/2022/12/2022_New-Years-Activities_thumbnail-scaled.jpg
END:VEVENT
END:VCALENDAR