BEGIN:VCALENDAR
VERSION:2.0
PRODID:-//City of Whitehorse - ECPv6.15.17.1//NONSGML v1.0//EN
CALSCALE:GREGORIAN
METHOD:PUBLISH
X-WR-CALNAME:City of Whitehorse
X-ORIGINAL-URL:https://www.whitehorse.ca
X-WR-CALDESC:Events for City of Whitehorse
REFRESH-INTERVAL;VALUE=DURATION:PT1H
X-Robots-Tag:noindex
X-PUBLISHED-TTL:PT1H
BEGIN:VTIMEZONE
TZID:America/Whitehorse
BEGIN:STANDARD
TZOFFSETFROM:-0700
TZOFFSETTO:-0700
TZNAME:MST
DTSTART:20220101T000000
END:STANDARD
END:VTIMEZONE
BEGIN:VEVENT
DTSTART;VALUE=DATE:20230102
DTEND;VALUE=DATE:20230103
DTSTAMP:20260424T101132
CREATED:20221219T182414Z
LAST-MODIFIED:20221219T182414Z
UID:10250-1672617600-1672703999@www.whitehorse.ca
SUMMARY:Office closures
DESCRIPTION:Most City offices are closed Monday\, January 2. \nWeekend service is in effect for Transit. \nThe Canada Games Centre\, Frank Slim Building\, and the Waste Management Facility are open\, and curbside collection will continue as normal. \nFor complaints outside of office hours\, please call the Trouble Line at 667-2111\, and in the event of an emergency\, please call 9-1-1.
URL:https://www.whitehorse.ca/event/office-closures-2/
CATEGORIES:Holidays
END:VEVENT
BEGIN:VEVENT
DTSTART;TZID=America/Whitehorse:20230102T053000
DTEND;TZID=America/Whitehorse:20230102T084500
DTSTAMP:20260424T101132
CREATED:20221219T220757Z
LAST-MODIFIED:20230218T141029Z
UID:10526-1672637400-1672649100@www.whitehorse.ca
SUMMARY:Accessibility Swim
DESCRIPTION:A quiet time for adults\, persons with disabilities and accompanied youth to use the leisure pool for physiotherapy or rehabilitation purposes.
URL:https://www.whitehorse.ca/event/accessibility-swim-4/2023-01-02/
LOCATION:Leisure Pool
CATEGORIES:Swimming
END:VEVENT
BEGIN:VEVENT
DTSTART;TZID=America/Whitehorse:20230102T053000
DTEND;TZID=America/Whitehorse:20230102T220000
DTSTAMP:20260424T101132
CREATED:20221219T201420Z
LAST-MODIFIED:20230218T034207Z
UID:10320-1672637400-1672696800@www.whitehorse.ca
SUMMARY:Lane Swim
DESCRIPTION:Ages: 12+years. \nThe lap pool is set up for length swimming in double lanes. Swim in a circular pattern. Know your speed and choose the appropriate lane.
URL:https://www.whitehorse.ca/event/lane-swim-14/2023-01-02/
LOCATION:Lap Pool
CATEGORIES:Swimming
END:VEVENT
BEGIN:VEVENT
DTSTART;TZID=America/Whitehorse:20230102T053000
DTEND;TZID=America/Whitehorse:20230102T220000
DTSTAMP:20260424T101132
CREATED:20221219T225433Z
LAST-MODIFIED:20230218T142028Z
UID:10759-1672637400-1672696800@www.whitehorse.ca
SUMMARY:Hot Tub\, Sauna & Steam Room
DESCRIPTION:Capacity: 20 people\nAvailable on a first come first serve basis.\nRecommend maximum stay of 15 minutes for adults and 5 minutes for children. \nHot tub capacities are reduced during lesson times for the following:\nSundays 9:30 AM – 1:00 PM\nMondays 8:45 AM – 11:00 AM\nTuesdays 3:30 PM – 6:15 PM\nThursdays 3:30 PM – 6:15 PM\nSaturdays 10:00 AM – 1:00 PM
URL:https://www.whitehorse.ca/event/hot-tub-sauna-steam-room-7/2023-01-02/
LOCATION:Swimming Pool
CATEGORIES:Swimming
END:VEVENT
BEGIN:VEVENT
DTSTART;TZID=America/Whitehorse:20230102T080000
DTEND;TZID=America/Whitehorse:20230102T210000
DTSTAMP:20260424T101132
CREATED:20221220T212051Z
LAST-MODIFIED:20230214T180541Z
UID:11232-1672646400-1672693200@www.whitehorse.ca
SUMMARY:Leisure Ice
DESCRIPTION:Attached to the ATCO Ice\, this small rink is perfect for new skaters. Skate aids available for use. Hockey sticks and pucks not permitted.
URL:https://www.whitehorse.ca/event/leisure-ice-3/2023-01-02/
LOCATION:ATCO Ice
CATEGORIES:Skating
END:VEVENT
BEGIN:VEVENT
DTSTART;TZID=America/Whitehorse:20230102T090000
DTEND;TZID=America/Whitehorse:20230102T100000
DTSTAMP:20260424T101132
CREATED:20221220T190513Z
LAST-MODIFIED:20230214T173836Z
UID:10848-1672650000-1672653600@www.whitehorse.ca
SUMMARY:Functional Fitness
DESCRIPTION:Help improve your usable strength and physical fitness while focusing on typical movements performed outside the gym. These classes concentrate on having a large variety of exercises and movements so each class is unique.
URL:https://www.whitehorse.ca/event/functional-fitness-3/2023-01-02/
LOCATION:Wellness Studio
CATEGORIES:Fitness
END:VEVENT
BEGIN:VEVENT
DTSTART;TZID=America/Whitehorse:20230102T090000
DTEND;TZID=America/Whitehorse:20230102T113000
DTSTAMP:20260424T101132
CREATED:20221220T215902Z
LAST-MODIFIED:20230215T164450Z
UID:11424-1672650000-1672659000@www.whitehorse.ca
SUMMARY:Families on the Move
DESCRIPTION:A time for caregivers with young children to explore\, create\, imagine\, and play together. Toys and equipment provided. This activity has limited space\, so please check in at Reception prior to use to ensure availability.
URL:https://www.whitehorse.ca/event/families-on-the-move-13/2023-01-02/
LOCATION:Coca-Cola Fieldhouse
CATEGORIES:Field Activities
END:VEVENT
BEGIN:VEVENT
DTSTART;TZID=America/Whitehorse:20230102T090000
DTEND;TZID=America/Whitehorse:20230102T130000
DTSTAMP:20260424T101132
CREATED:20221220T221716Z
LAST-MODIFIED:20230215T173918Z
UID:11600-1672650000-1672664400@www.whitehorse.ca
SUMMARY:Senior Activities
DESCRIPTION:A full morning of leisure sports and socializing! We have lawn bowling\, shuffleboard\, pickleball and more. In partnership with ElderActive. All equipment provided.
URL:https://www.whitehorse.ca/event/senior-activities-4/2023-01-02/
LOCATION:Powerade Flexihall
CATEGORIES:Flexi Activities
END:VEVENT
BEGIN:VEVENT
DTSTART;TZID=America/Whitehorse:20230102T110000
DTEND;TZID=America/Whitehorse:20230102T123000
DTSTAMP:20260424T101132
CREATED:20221220T210637Z
LAST-MODIFIED:20230214T183709Z
UID:11073-1672657200-1672662600@www.whitehorse.ca
SUMMARY:Public Skate
DESCRIPTION:A time for everyone to grab their skates and enjoy our indoor facility.\nHelmets are strongly recommended for children.
URL:https://www.whitehorse.ca/event/public-skate-6/2023-01-02/
LOCATION:ATCO Ice
CATEGORIES:Skating
END:VEVENT
BEGIN:VEVENT
DTSTART;TZID=America/Whitehorse:20230102T110000
DTEND;TZID=America/Whitehorse:20230102T130000
DTSTAMP:20260424T101132
CREATED:20221219T221335Z
LAST-MODIFIED:20221219T221335Z
UID:10623-1672657200-1672664400@www.whitehorse.ca
SUMMARY:Family Swim
DESCRIPTION:Capacity: 30\nSpend family time together in the Leisure Pool. All children must be with an adult and all adults must be with children. Limited features and some toys available.\nPlease note: Children 0-6 years must be within arms’ reach of an adult at all times\, and a ratio of 1 adult to 3 children is enforced.
URL:https://www.whitehorse.ca/event/family-swim-15/2023-01-02/
LOCATION:Leisure Pool
CATEGORIES:Swimming
END:VEVENT
BEGIN:VEVENT
DTSTART;TZID=America/Whitehorse:20230102T110500
DTEND;TZID=America/Whitehorse:20230102T115000
DTSTAMP:20260424T101132
CREATED:20221219T202505Z
LAST-MODIFIED:20230218T033512Z
UID:10407-1672657500-1672660200@www.whitehorse.ca
SUMMARY:Aquafit
DESCRIPTION:Physical conditioning is obtained by using water for resistance. Workouts include a combination of cardio and muscle focus. Most classes occur in the shallow end\, but seasoned participants can choose to use the deep end.
URL:https://www.whitehorse.ca/event/aquafit-6/2023-01-02/
LOCATION:Lap Pool
CATEGORIES:Fitness,Swimming
END:VEVENT
BEGIN:VEVENT
DTSTART;TZID=America/Whitehorse:20230102T114500
DTEND;TZID=America/Whitehorse:20230102T133000
DTSTAMP:20260424T101132
CREATED:20221220T212345Z
LAST-MODIFIED:20230214T181845Z
UID:11301-1672659900-1672666200@www.whitehorse.ca
SUMMARY:Adult Shinny
DESCRIPTION:Ages: 18+ years\nJoin a pick-up game of non-contact hockey. Participants must have a “shinny” wristband. Full equipment is required and helmets are mandatory. Max 20 participants + 2 goalies.
URL:https://www.whitehorse.ca/event/adult-shinny-9/2023-01-02/
LOCATION:Northwestel Arena
CATEGORIES:Skating
END:VEVENT
BEGIN:VEVENT
DTSTART;TZID=America/Whitehorse:20230102T120000
DTEND;TZID=America/Whitehorse:20230102T130000
DTSTAMP:20260424T101132
CREATED:20221201T175326Z
LAST-MODIFIED:20230218T045849Z
UID:9788-1672660800-1672664400@www.whitehorse.ca
SUMMARY:Physio Swim
DESCRIPTION:Ages: 12+ year. \nDesigned for swimmers who need the stairs\, want the comfort of the wall or are using the lane for physiotherapy or rehabilitation purposes.
URL:https://www.whitehorse.ca/event/physio-swim-8-2023-01-02/2023-01-02/
LOCATION:Lap Pool
CATEGORIES:Swimming
END:VEVENT
BEGIN:VEVENT
DTSTART;TZID=America/Whitehorse:20230102T121000
DTEND;TZID=America/Whitehorse:20230102T125000
DTSTAMP:20260424T101132
CREATED:20221220T203536Z
LAST-MODIFIED:20230214T173938Z
UID:11031-1672661400-1672663800@www.whitehorse.ca
SUMMARY:Bootcamp
DESCRIPTION:Get put through your paces with a mixture of cardiovascular\, strength\, and core training.
URL:https://www.whitehorse.ca/event/bootcamp-4/2023-01-02/
LOCATION:Coca-Cola Fieldhouse
CATEGORIES:Field Activities,Fitness
END:VEVENT
BEGIN:VEVENT
DTSTART;TZID=America/Whitehorse:20230102T143000
DTEND;TZID=America/Whitehorse:20230102T160000
DTSTAMP:20260424T101132
CREATED:20221220T222333Z
LAST-MODIFIED:20230313T174833Z
UID:11620-1672669800-1672675200@www.whitehorse.ca
SUMMARY:Pickleball
DESCRIPTION:Pickleball racquet and ball available for rent: $3.95 each (free with 6 Month or 1 Year Membership).
URL:https://www.whitehorse.ca/event/pickleball-12/2023-01-02/
LOCATION:Powerade Flexihall
CATEGORIES:Flexi Activities
END:VEVENT
BEGIN:VEVENT
DTSTART;TZID=America/Whitehorse:20230102T150000
DTEND;TZID=America/Whitehorse:20230102T173000
DTSTAMP:20260424T101132
CREATED:20221220T222922Z
LAST-MODIFIED:20230215T174223Z
UID:11736-1672671600-1672680600@www.whitehorse.ca
SUMMARY:Basketball
DESCRIPTION:A time to come and practice your basketball skills.  Basketballs provided with collateral. \n 
URL:https://www.whitehorse.ca/event/basketball-8/2023-01-02/
LOCATION:Powerade Flexihall
CATEGORIES:Flexi Activities
END:VEVENT
BEGIN:VEVENT
DTSTART;TZID=America/Whitehorse:20230102T153000
DTEND;TZID=America/Whitehorse:20230102T200000
DTSTAMP:20260424T101132
CREATED:20221219T223647Z
LAST-MODIFIED:20230218T050413Z
UID:10662-1672673400-1672689600@www.whitehorse.ca
SUMMARY:Public Swim
DESCRIPTION:The lap pool\, diving board\, leisure pool\, water slide are available for all to enjoy. Limited features and no toys available.
URL:https://www.whitehorse.ca/event/public-swim-12/2023-01-02/
LOCATION:Leisure Pool + Lap Pool
CATEGORIES:Swimming
END:VEVENT
BEGIN:VEVENT
DTSTART;TZID=America/Whitehorse:20230102T154500
DTEND;TZID=America/Whitehorse:20230102T171500
DTSTAMP:20260424T101132
CREATED:20221220T212618Z
LAST-MODIFIED:20230214T182115Z
UID:11341-1672674300-1672679700@www.whitehorse.ca
SUMMARY:Teen Pucks n Sticks
DESCRIPTION:Ages: 10 – 17 years* \nPractice skating\, stick handling and shooting skills. Pick-up games of hockey are not allowed during this time.\nHelmets and gloves are mandatory. \n* An adult is welcome to accompany their teen on the ice during this time.
URL:https://www.whitehorse.ca/event/teen-pucks-n-sticks-13/2023-01-02/
LOCATION:Northwestel Arena
CATEGORIES:Skating
END:VEVENT
BEGIN:VEVENT
DTSTART;TZID=America/Whitehorse:20230102T171500
DTEND;TZID=America/Whitehorse:20230102T181500
DTSTAMP:20260424T101132
CREATED:20221220T190948Z
LAST-MODIFIED:20230214T172804Z
UID:10858-1672679700-1672683300@www.whitehorse.ca
SUMMARY:Zumba
DESCRIPTION:This heart pumping\, calorie burning class combines salsa\, meringue\, samba\, belly dance\, reggae\, and hip hop movements performed to energetic music.
URL:https://www.whitehorse.ca/event/zumba-5/2023-01-02/
LOCATION:Wellness Studio
CATEGORIES:Fitness
END:VEVENT
BEGIN:VEVENT
DTSTART;TZID=America/Whitehorse:20230102T183000
DTEND;TZID=America/Whitehorse:20230102T193000
DTSTAMP:20260424T101132
CREATED:20221220T191104Z
LAST-MODIFIED:20230214T173018Z
UID:10887-1672684200-1672687800@www.whitehorse.ca
SUMMARY:Gentle Yoga
DESCRIPTION:Enjoy the harmonizing benefits of yoga through gentle stretching and strengthening\, breath work\, and relaxation. Dress in layers.
URL:https://www.whitehorse.ca/event/gentle-yoga-4/2023-01-02/
LOCATION:Wellness Studio
CATEGORIES:Fitness
END:VEVENT
BEGIN:VEVENT
DTSTART;TZID=America/Whitehorse:20230102T200000
DTEND;TZID=America/Whitehorse:20230102T220000
DTSTAMP:20260424T101132
CREATED:20221219T202944Z
LAST-MODIFIED:20230218T032016Z
UID:10476-1672689600-1672696800@www.whitehorse.ca
SUMMARY:Adult Swim
DESCRIPTION:Ages: 19+years. \nA relaxing time for adults to use the leisure pool in designated areas. \nNote: Lap pool access begins at 9 pm on Mondays and Wednesday.
URL:https://www.whitehorse.ca/event/adult-swim-5/2023-01-02/
LOCATION:Leisure Pool + Lap Pool
CATEGORIES:Swimming
END:VEVENT
BEGIN:VEVENT
DTSTART;TZID=America/Whitehorse:20230102T203000
DTEND;TZID=America/Whitehorse:20230102T220000
DTSTAMP:20260424T101132
CREATED:20221220T230304Z
LAST-MODIFIED:20230215T173505Z
UID:11898-1672691400-1672696800@www.whitehorse.ca
SUMMARY:Badminton
DESCRIPTION:Badminton racquet with shuttlecock available for rent: $3.95 each (free with 6 Month or 1 Year Membership).
URL:https://www.whitehorse.ca/event/badminton-6/2023-01-02/
LOCATION:Powerade Flexihall
CATEGORIES:Flexi Activities
END:VEVENT
END:VCALENDAR