BEGIN:VCALENDAR
VERSION:2.0
PRODID:-//City of Whitehorse - ECPv6.15.17.1//NONSGML v1.0//EN
CALSCALE:GREGORIAN
METHOD:PUBLISH
X-WR-CALNAME:City of Whitehorse
X-ORIGINAL-URL:https://www.whitehorse.ca
X-WR-CALDESC:Events for City of Whitehorse
REFRESH-INTERVAL;VALUE=DURATION:PT1H
X-Robots-Tag:noindex
X-PUBLISHED-TTL:PT1H
BEGIN:VTIMEZONE
TZID:America/Whitehorse
BEGIN:STANDARD
TZOFFSETFROM:-0700
TZOFFSETTO:-0700
TZNAME:MST
DTSTART:20220101T000000
END:STANDARD
END:VTIMEZONE
BEGIN:VEVENT
DTSTART;TZID=America/Whitehorse:20230405T183000
DTEND;TZID=America/Whitehorse:20230405T193000
DTSTAMP:20260420T212212
CREATED:20230313T210613Z
LAST-MODIFIED:20230313T210613Z
UID:13328-1680719400-1680723000@www.whitehorse.ca
SUMMARY:Warrior Combat
DESCRIPTION:Boxing inspired\, powerful\, and fierce\, Warrior Combat includes high intensity intervals\, stress-melting strength training\, and music driven fight combinations. This empowering conditioning class makes you feel like a confident warrior.
URL:https://www.whitehorse.ca/event/warrior-combat/2023-04-05/
LOCATION:Wellness Studio
CATEGORIES:Fitness
END:VEVENT
END:VCALENDAR