BEGIN:VCALENDAR
VERSION:2.0
PRODID:-//City of Whitehorse - ECPv6.15.17.1//NONSGML v1.0//EN
CALSCALE:GREGORIAN
METHOD:PUBLISH
X-WR-CALNAME:City of Whitehorse
X-ORIGINAL-URL:https://www.whitehorse.ca
X-WR-CALDESC:Events for City of Whitehorse
REFRESH-INTERVAL;VALUE=DURATION:PT1H
X-Robots-Tag:noindex
X-PUBLISHED-TTL:PT1H
BEGIN:VTIMEZONE
TZID:America/Whitehorse
BEGIN:STANDARD
TZOFFSETFROM:-0700
TZOFFSETTO:-0700
TZNAME:MST
DTSTART:20220101T000000
END:STANDARD
END:VTIMEZONE
BEGIN:VTIMEZONE
TZID:UTC
BEGIN:STANDARD
TZOFFSETFROM:+0000
TZOFFSETTO:+0000
TZNAME:UTC
DTSTART:20220101T000000
END:STANDARD
END:VTIMEZONE
BEGIN:VEVENT
DTSTART;VALUE=DATE:20230407
DTEND;VALUE=DATE:20230411
DTSTAMP:20260420T154435
CREATED:20230317T182232Z
LAST-MODIFIED:20230317T182232Z
UID:14667-1680825600-1681171199@www.whitehorse.ca
SUMMARY:Easter Long Weekend
DESCRIPTION:Weekend service will be in effect for Transit on April 7 (Good Friday) and April 10 (Easter Monday)\, the Canada Games Centre will be open from 8 a.m. to 8 p.m. for the entire long weekend\, and the Waste Management Facility will be closed on Good Friday. Curbside collection for Logan\, Copper Ridge\, and Whistle Bend will continue as normal on Easter Monday. Most other City facilities and services will be closed on Friday and Monday.
URL:https://www.whitehorse.ca/event/easter-long-weekend/
CATEGORIES:Holidays
END:VEVENT
BEGIN:VEVENT
DTSTART;VALUE=DATE:20230407
DTEND;VALUE=DATE:20230411
DTSTAMP:20260420T154435
CREATED:20230322T175048Z
LAST-MODIFIED:20230404T214526Z
UID:14681-1680825600-1681171199@www.whitehorse.ca
SUMMARY:Easter Eggtivities
DESCRIPTION:Easter Eggtivities at the Canada Games Centre. \nFACILITY HOURS\nApril 7 – April 10\n8 a.m. – 8 p.m.\nView our drop-in schedule for holiday changes. \n  \nColouring Contest\, March 30 to April 10\nPick up a colouring page at the Canada Games Centre\, or download here.\nDrop off at reception by April 11 to be entered into a draw for a filled Easter basket. \n \nEgg Hunt Scrambler\, April 7 to April 10 (geared to children 3-7 years)\nEgg Hunt Scrambler is a self-directed egg hunt throughout the Canada Games Centre that you can do any time over the Easter weekend.\nScrambler papers are located on the Events pillar\, across from reception.
URL:https://www.whitehorse.ca/event/easter-eggtivities/
CATEGORIES:Special Events
ATTACH;FMTTYPE=application/pdf:https://www.whitehorse.ca/wp-content/uploads/2026/02/2026Easter_social.pdf
END:VEVENT
BEGIN:VEVENT
DTSTART;TZID=America/Whitehorse:20230408T080000
DTEND;TZID=America/Whitehorse:20230408T100000
DTSTAMP:20260420T154435
CREATED:20230314T170815Z
LAST-MODIFIED:20230327T205925Z
UID:13879-1680940800-1680948000@www.whitehorse.ca
SUMMARY:Family Swim
DESCRIPTION:Spend family time together in the Leisure Pool. All children must be with an adult and all adults must be with children. Limited features and some toys available.\nPlease note: Children 0-6 years must be within arms’ reach of an adult at all times\, and a ratio of 1 adult to 3 children is enforced.
URL:https://www.whitehorse.ca/event/family-swim-22-2023-04-08/
LOCATION:Leisure Pool
CATEGORIES:Swimming
END:VEVENT
BEGIN:VEVENT
DTSTART;TZID=America/Whitehorse:20230408T080000
DTEND;TZID=America/Whitehorse:20230408T200000
DTSTAMP:20260420T154435
CREATED:20221219T225433Z
LAST-MODIFIED:20230327T205811Z
UID:13635-1680940800-1680984000@www.whitehorse.ca
SUMMARY:Hot Tub\, Sauna & Steam Room
DESCRIPTION:Capacity: 20 people\nAvailable on a first come first serve basis.\nRecommend maximum stay of 15 minutes for adults and 5 minutes for children. \nHot tub capacities are reduced during lesson times for the following:\nSundays 9:30 AM – 1:00 PM\nMondays 8:45 AM – 11:00 AM\nTuesdays 3:30 PM – 6:15 PM\nThursdays 3:30 PM – 6:15 PM\nSaturdays 10:00 AM – 1:00 PM
URL:https://www.whitehorse.ca/event/hot-tub-sauna-steam-room-7-2023-03-27-2023-04-08/
LOCATION:Swimming Pool
CATEGORIES:Swimming
END:VEVENT
BEGIN:VEVENT
DTSTART;TZID=America/Whitehorse:20230408T080000
DTEND;TZID=America/Whitehorse:20230408T200000
DTSTAMP:20260420T154435
CREATED:20230314T170148Z
LAST-MODIFIED:20230327T205848Z
UID:13798-1680940800-1680984000@www.whitehorse.ca
SUMMARY:Lane Swim
DESCRIPTION:Ages: 12+years. \nThe lap pool is set up for length swimming in double lanes. Swim in a circular pattern. Know your speed and choose the appropriate lane.
URL:https://www.whitehorse.ca/event/lane-swim-16-2023-04-08/
LOCATION:Lap Pool
CATEGORIES:Swimming
END:VEVENT
BEGIN:VEVENT
DTSTART;TZID=America/Whitehorse:20230408T131500
DTEND;TZID=America/Whitehorse:20230408T160000
DTSTAMP:20260420T154435
CREATED:20230314T170815Z
LAST-MODIFIED:20230327T210021Z
UID:13880-1680959700-1680969600@www.whitehorse.ca
SUMMARY:Family Swim
DESCRIPTION:Spend family time together in the Lap and Leisure Pool. All children must be with an adult and all adults must be with children. Limited features and some toys available.\nPlease note: Children 0-6 years must be within arms’ reach of an adult at all times\, and a ratio of 1 adult to 3 children is enforced.
URL:https://www.whitehorse.ca/event/family-swim-22-2023-04-08-2/
LOCATION:Leisure Pool + Lap Pool
CATEGORIES:Swimming
END:VEVENT
BEGIN:VEVENT
DTSTART;TZID=America/Whitehorse:20230408T160000
DTEND;TZID=America/Whitehorse:20230408T200000
DTSTAMP:20260420T154435
CREATED:20230314T171621Z
LAST-MODIFIED:20230327T210321Z
UID:14002-1680969600-1680984000@www.whitehorse.ca
SUMMARY:Public Swim
DESCRIPTION:  \n\n\n\nThe lap pool\, diving board\, leisure pool\, water slide are available for all to enjoy. Limited features and no toys available. \n\n\n\n\n\n 
URL:https://www.whitehorse.ca/event/public-swim-22-2023-04-08/
LOCATION:Leisure Pool + Lap Pool
CATEGORIES:Swimming
END:VEVENT
BEGIN:VEVENT
DTSTART;TZID=America/Whitehorse:20230408T180000
DTEND;TZID=America/Whitehorse:20230408T200000
DTSTAMP:20260420T154435
CREATED:20230314T230901Z
LAST-MODIFIED:20230327T195307Z
UID:14512-1680976800-1680984000@www.whitehorse.ca
SUMMARY:Basketball
DESCRIPTION:A time to come and practice your basketball skills.  Basketballs provided with collateral. \n 
URL:https://www.whitehorse.ca/event/basketball-9-2023-04-08-3/
LOCATION:Powerade Flexihall
CATEGORIES:Flexi Activities
END:VEVENT
BEGIN:VEVENT
DTSTART;TZID=America/Whitehorse:20230408T180000
DTEND;TZID=America/Whitehorse:20230408T200000
DTSTAMP:20260420T154435
CREATED:20230315T182819Z
LAST-MODIFIED:20230327T195335Z
UID:14574-1680976800-1680984000@www.whitehorse.ca
SUMMARY:Badminton
DESCRIPTION:Badminton racquet with shuttlecock available for rent: $3.95 each (free with 6 Month or 1 Year Membership).
URL:https://www.whitehorse.ca/event/badminton-9-2023-04-08/
LOCATION:Powerade Flexihall
CATEGORIES:Flexi Activities
END:VEVENT
BEGIN:VEVENT
DTSTART;TZID=America/Whitehorse:20230408T183000
DTEND;TZID=America/Whitehorse:20230408T193000
DTSTAMP:20260420T154435
CREATED:20230315T183714Z
LAST-MODIFIED:20230327T195402Z
UID:14631-1680978600-1680982200@www.whitehorse.ca
SUMMARY:Volleyball
DESCRIPTION:Join a pick-up game of volleyball. Volleyballs provided with collateral.
URL:https://www.whitehorse.ca/event/volleyball-7-2023-04-08/
LOCATION:Powerade Flexihall
CATEGORIES:Flexi Activities
END:VEVENT
BEGIN:VEVENT
DTSTART;TZID=UTC:20230408T190000
DTEND;TZID=UTC:20230408T200000
DTSTAMP:20260420T154435
CREATED:20230314T204741Z
LAST-MODIFIED:20230327T211648Z
UID:14372-1680980400-1680984000@www.whitehorse.ca
SUMMARY:Disc Golf
DESCRIPTION:Come and practice your Disc Golf game with our driving targets. A time to work on different discs\, throws\, drives and putts.
URL:https://www.whitehorse.ca/event/disc-golf-3-2023-04-08/
LOCATION:Coca-Cola Fieldhouse
CATEGORIES:Field Activities
END:VEVENT
END:VCALENDAR