BEGIN:VCALENDAR
VERSION:2.0
PRODID:-//City of Whitehorse - ECPv6.15.17.1//NONSGML v1.0//EN
CALSCALE:GREGORIAN
METHOD:PUBLISH
X-ORIGINAL-URL:https://www.whitehorse.ca
X-WR-CALDESC:Events for City of Whitehorse
REFRESH-INTERVAL;VALUE=DURATION:PT1H
X-Robots-Tag:noindex
X-PUBLISHED-TTL:PT1H
BEGIN:VTIMEZONE
TZID:America/Whitehorse
BEGIN:STANDARD
TZOFFSETFROM:-0700
TZOFFSETTO:-0700
TZNAME:MST
DTSTART:20220101T000000
END:STANDARD
END:VTIMEZONE
BEGIN:VEVENT
DTSTART;TZID=America/Whitehorse:20230428T053000
DTEND;TZID=America/Whitehorse:20230428T153000
DTSTAMP:20260420T084915
CREATED:20221219T225433Z
LAST-MODIFIED:20230403T223312Z
UID:13655-1682659800-1682695800@www.whitehorse.ca
SUMMARY:Hot Tub\, Sauna & Steam Room
DESCRIPTION:Capacity: 20 people\nAvailable on a first come first serve basis.\nRecommend maximum stay of 15 minutes for adults and 5 minutes for children. \nHot tub capacities are reduced during lesson times for the following:\nSundays 9:30 AM – 1:00 PM\nMondays 8:45 AM – 11:00 AM\nTuesdays 3:30 PM – 6:15 PM\nThursdays 3:30 PM – 6:15 PM\nSaturdays 10:00 AM – 1:00 PM
URL:https://www.whitehorse.ca/event/hot-tub-sauna-steam-room-7-2023-03-27-2023-04-28/
LOCATION:Swimming Pool
CATEGORIES:Swimming
END:VEVENT
BEGIN:VEVENT
DTSTART;TZID=America/Whitehorse:20230428T053000
DTEND;TZID=America/Whitehorse:20230428T153000
DTSTAMP:20260420T084915
CREATED:20230314T170148Z
LAST-MODIFIED:20230403T223233Z
UID:13821-1682659800-1682695800@www.whitehorse.ca
SUMMARY:Lane Swim
DESCRIPTION:Ages: 12+years. \nThe lap pool is set up for length swimming in double lanes. Swim in a circular pattern. Know your speed and choose the appropriate lane.
URL:https://www.whitehorse.ca/event/lane-swim-16-2023-04-28/
LOCATION:Lap Pool
CATEGORIES:Swimming
END:VEVENT
BEGIN:VEVENT
DTSTART;TZID=America/Whitehorse:20230428T153000
DTEND;TZID=America/Whitehorse:20230428T220000
DTSTAMP:20260420T084915
CREATED:20230403T224126Z
LAST-MODIFIED:20230607T204226Z
UID:14790-1682695800-1682719200@www.whitehorse.ca
SUMMARY:Booked Event in Whitehorse Lions Aquatic Centre
DESCRIPTION:The drop-in schedule is affected by a booked event.
URL:https://www.whitehorse.ca/event/booked-event-in-whitehorse-lions-aquatic-centre-3/2023-04-28/
LOCATION:Swimming Pool
CATEGORIES:Swimming
END:VEVENT
BEGIN:VEVENT
DTSTART;TZID=America/Whitehorse:20230428T203000
DTEND;TZID=America/Whitehorse:20230428T220000
DTSTAMP:20260420T084915
CREATED:20230323T225415Z
LAST-MODIFIED:20230323T225415Z
UID:14703-1682713800-1682719200@www.whitehorse.ca
SUMMARY:Public Skate
DESCRIPTION:A time for everyone to grab their skates and enjoy our indoor facility.\nHelmets are strongly recommended for children.
URL:https://www.whitehorse.ca/event/public-skate-14/
LOCATION:ATCO Ice
CATEGORIES:Skating
END:VEVENT
END:VCALENDAR