BEGIN:VCALENDAR
VERSION:2.0
PRODID:-//City of Whitehorse - ECPv6.15.17.1//NONSGML v1.0//EN
CALSCALE:GREGORIAN
METHOD:PUBLISH
X-WR-CALNAME:City of Whitehorse
X-ORIGINAL-URL:https://www.whitehorse.ca
X-WR-CALDESC:Events for City of Whitehorse
REFRESH-INTERVAL;VALUE=DURATION:PT1H
X-Robots-Tag:noindex
X-PUBLISHED-TTL:PT1H
BEGIN:VTIMEZONE
TZID:America/Whitehorse
BEGIN:STANDARD
TZOFFSETFROM:-0700
TZOFFSETTO:-0700
TZNAME:MST
DTSTART:20220101T000000
END:STANDARD
END:VTIMEZONE
BEGIN:VEVENT
DTSTART;VALUE=DATE:20230522
DTEND;VALUE=DATE:20230523
DTSTAMP:20260424T122353
CREATED:20230508T212757Z
LAST-MODIFIED:20230508T212757Z
UID:15474-1684713600-1684799999@www.whitehorse.ca
SUMMARY:Victoria Day
DESCRIPTION:Most City facilities and services will be closed on Monday\, May 23\, including the Canada Games Centre. \nWeekend service will be in effect for transit. \nThe Waste Management Facility will be open\, and curbside collection will continue as normal for Logan\, Copper Ridge and Whistle Bend.
URL:https://www.whitehorse.ca/event/victoria-day/
CATEGORIES:Holidays
END:VEVENT
BEGIN:VEVENT
DTSTART;VALUE=DATE:20230522
DTEND;VALUE=DATE:20230523
DTSTAMP:20260424T122353
CREATED:20230518T202315Z
LAST-MODIFIED:20230518T202315Z
UID:15554-1684713600-1684799999@www.whitehorse.ca
SUMMARY:Victoria Day
DESCRIPTION:The Canada Games Centre is closed on Monday\, May 22 \n 
URL:https://www.whitehorse.ca/event/victoria-day-2/
LOCATION:Canada Games Centre
CATEGORIES:CGC Special Events,Field Activities,Fitness,Flexi Activities,Skating,Swimming
END:VEVENT
END:VCALENDAR