BEGIN:VCALENDAR
VERSION:2.0
PRODID:-//City of Whitehorse - ECPv6.15.17.1//NONSGML v1.0//EN
CALSCALE:GREGORIAN
METHOD:PUBLISH
X-ORIGINAL-URL:https://www.whitehorse.ca
X-WR-CALDESC:Events for City of Whitehorse
REFRESH-INTERVAL;VALUE=DURATION:PT1H
X-Robots-Tag:noindex
X-PUBLISHED-TTL:PT1H
BEGIN:VTIMEZONE
TZID:America/Whitehorse
BEGIN:STANDARD
TZOFFSETFROM:-0700
TZOFFSETTO:-0700
TZNAME:MST
DTSTART:20220101T000000
END:STANDARD
END:VTIMEZONE
BEGIN:VEVENT
DTSTART;TZID=America/Whitehorse:20230908T090000
DTEND;TZID=America/Whitehorse:20230908T100000
DTSTAMP:20260420T032235
CREATED:20230824T170839Z
LAST-MODIFIED:20230824T170839Z
UID:18909-1694163600-1694167200@www.whitehorse.ca
SUMMARY:Tabata
DESCRIPTION:Eight rounds of high-intensity exercises: 20-seconds work\, 10 seconds rest.
URL:https://www.whitehorse.ca/event/tabata-11/2023-09-08/
LOCATION:Wellness Studio
CATEGORIES:Fitness
END:VEVENT
BEGIN:VEVENT
DTSTART;TZID=America/Whitehorse:20230908T121000
DTEND;TZID=America/Whitehorse:20230908T125000
DTSTAMP:20260420T032236
CREATED:20230824T172142Z
LAST-MODIFIED:20230824T172142Z
UID:19015-1694175000-1694177400@www.whitehorse.ca
SUMMARY:HIIT
DESCRIPTION:A strength and aerobic conditioning workout designed to work your whole body. High intensity cardio bursts will set you on the right track.
URL:https://www.whitehorse.ca/event/hiit-7/2023-09-08/
LOCATION:Coca-Cola Fieldhouse
CATEGORIES:Field Activities,Fitness
END:VEVENT
BEGIN:VEVENT
DTSTART;TZID=America/Whitehorse:20230908T133000
DTEND;TZID=America/Whitehorse:20230908T160000
DTSTAMP:20260420T032236
CREATED:20230822T183256Z
LAST-MODIFIED:20230824T190326Z
UID:17873-1694179800-1694188800@www.whitehorse.ca
SUMMARY:Soccer
DESCRIPTION:A time to come and practice your soccer skills.
URL:https://www.whitehorse.ca/event/soccer-15/2023-09-08/
LOCATION:Coca-Cola Fieldhouse
CATEGORIES:Field Activities
END:VEVENT
BEGIN:VEVENT
DTSTART;TZID=America/Whitehorse:20230908T170000
DTEND;TZID=America/Whitehorse:20230908T183000
DTSTAMP:20260420T032236
CREATED:20230822T204412Z
LAST-MODIFIED:20230822T204412Z
UID:18635-1694192400-1694197800@www.whitehorse.ca
SUMMARY:Youth Basketball
DESCRIPTION:Ages 10-17 years \nA time to come and practice your basketball skills.
URL:https://www.whitehorse.ca/event/youth-basketball-5/2023-09-08/
LOCATION:Powerade Flexihall
CATEGORIES:Flexi Activities
END:VEVENT
BEGIN:VEVENT
DTSTART;TZID=America/Whitehorse:20230908T171500
DTEND;TZID=America/Whitehorse:20230908T181500
DTSTAMP:20260420T032236
CREATED:20230824T174236Z
LAST-MODIFIED:20230824T174236Z
UID:19108-1694193300-1694196900@www.whitehorse.ca
SUMMARY:Barre
DESCRIPTION:High-intensity\, low impact workout that build deep strength\, endurance and coordination in the entire body with a focus on the core. Barre uses empowering language\, amazing music and spicy-yet accessible moves to keep you engaged for the entire class.
URL:https://www.whitehorse.ca/event/barre/2023-09-08/
LOCATION:Wellness Studio
CATEGORIES:Fitness
END:VEVENT
BEGIN:VEVENT
DTSTART;TZID=America/Whitehorse:20230908T193000
DTEND;TZID=America/Whitehorse:20230908T213000
DTSTAMP:20260420T032236
CREATED:20230822T204548Z
LAST-MODIFIED:20230822T204548Z
UID:18651-1694201400-1694208600@www.whitehorse.ca
SUMMARY:Basketball Big Hoops
DESCRIPTION:Come join in on a full court pick-up game with the big hoops. Basketballs provided with collateral\, ask at reception. \n 
URL:https://www.whitehorse.ca/event/basketball-big-hoops-2/2023-09-08/
LOCATION:Powerade Flexihall
CATEGORIES:Flexi Activities
END:VEVENT
BEGIN:VEVENT
DTSTART;TZID=America/Whitehorse:20230908T201500
DTEND;TZID=America/Whitehorse:20230908T213000
DTSTAMP:20260420T032236
CREATED:20230822T184229Z
LAST-MODIFIED:20230822T184229Z
UID:17966-1694204100-1694208600@www.whitehorse.ca
SUMMARY:Archery Tag
DESCRIPTION:Ages: 14+ years\nArchery Tag is a unique sport that combines the elements of dodgeball with the timeless skills of archery. Through different game variations\, players take aim to score points against their opponents. An access tag* and waiver are required. \n*Tags can be picked up anytime during the day of the event at reception.
URL:https://www.whitehorse.ca/event/archery-tag-6/2023-09-08/
LOCATION:Coca-Cola Fieldhouse
CATEGORIES:Field Activities
END:VEVENT
END:VCALENDAR