BEGIN:VCALENDAR
VERSION:2.0
PRODID:-//City of Whitehorse - ECPv6.15.17.1//NONSGML v1.0//EN
CALSCALE:GREGORIAN
METHOD:PUBLISH
X-ORIGINAL-URL:https://www.whitehorse.ca
X-WR-CALDESC:Events for City of Whitehorse
REFRESH-INTERVAL;VALUE=DURATION:PT1H
X-Robots-Tag:noindex
X-PUBLISHED-TTL:PT1H
BEGIN:VTIMEZONE
TZID:America/Whitehorse
BEGIN:STANDARD
TZOFFSETFROM:-0700
TZOFFSETTO:-0700
TZNAME:MST
DTSTART:20220101T000000
END:STANDARD
END:VTIMEZONE
BEGIN:VEVENT
DTSTART;TZID=America/Whitehorse:20231126T120000
DTEND;TZID=America/Whitehorse:20231126T160000
DTSTAMP:20260420T122440
CREATED:20220901T210052Z
LAST-MODIFIED:20231123T194713Z
UID:8811-1701000000-1701014400@www.whitehorse.ca
SUMMARY:Japan Fest
DESCRIPTION:Join us at the Kwanlin Dun Cultural Centre from 12 to 4 pm for an afternoon of celebrating our Japanese Sister City program. \nSchedule\nDoors open at 11:45 am for people with mobility issues and then to the general public\nA welcome from the Japanese Canadian Association of Yukon President and Councillor Ted Laking\nOpening ceremony\nYukon Taiko opening performance\nJapanese music on violin and piano\nAikido\, Iaido\, Karate and other martial art demonstrations\nYukon Taiko Drummers\nBon-Odori (participatory folk dance) \nDisplays and activities\nKYOSYU – Longing for Home (short film)\nTea Ceremony workshop\nAnime\, manga\, origami\, calligraphy\, haiku\, Hidden History Society\, washi\, bouncy castle for kids and more \nThis event is in partnership with the Japanese Canadian Association of Yukon.\nFor more information\, please contact the City’s Corporate Events Coordinator at recevents@whitehorse.ca \nLearn more about our sister cities \n 
URL:https://www.whitehorse.ca/event/japan-fest/
CATEGORIES:Special Events
ATTACH;FMTTYPE=image/jpeg:https://www.whitehorse.ca/wp-content/uploads/2022/09/Japan-Fest.jpg
END:VEVENT
END:VCALENDAR