BEGIN:VCALENDAR
VERSION:2.0
PRODID:-//City of Whitehorse - ECPv6.15.17.1//NONSGML v1.0//EN
CALSCALE:GREGORIAN
METHOD:PUBLISH
X-WR-CALNAME:City of Whitehorse
X-ORIGINAL-URL:https://www.whitehorse.ca
X-WR-CALDESC:Events for City of Whitehorse
REFRESH-INTERVAL;VALUE=DURATION:PT1H
X-Robots-Tag:noindex
X-PUBLISHED-TTL:PT1H
BEGIN:VTIMEZONE
TZID:America/Whitehorse
BEGIN:STANDARD
TZOFFSETFROM:-0700
TZOFFSETTO:-0700
TZNAME:MST
DTSTART:20240101T000000
END:STANDARD
END:VTIMEZONE
BEGIN:VEVENT
DTSTART;TZID=America/Whitehorse:20250625T180000
DTEND;TZID=America/Whitehorse:20250625T193000
DTSTAMP:20260421T065420
CREATED:20250616T183637Z
LAST-MODIFIED:20250624T181758Z
UID:27136-1750874400-1750879800@www.whitehorse.ca
SUMMARY:Vision Zero Whitehorse Webinar
DESCRIPTION:The City is seeking feedback as efforts continue to make our roads and transportation networks safer for all. \nA Vision Zero Policy is being developed. \nCentred around four main goals\, the plan will: \n– Develop a vision\, guiding principles\, and targets for safe mobility in Whitehorse \n– Collect and analyze data to understand local collision trends and concerns \n– Develop key focus areas and actions to reduce fatalities and serious injuries\, informed by data and input from the community \n– Empower the City\, public and others towards positive change in safety culture \nThe City is seeking the public engagement on the plan. Fill out a survey from June 11 to July 9 and take part in a webinar June 25 by visiting engagewhitheorse.ca/vision-zero-policy.
URL:https://www.whitehorse.ca/event/vision-zero-whitehorse-webinar/
CATEGORIES:Government,Public Consultation
ATTACH;FMTTYPE=image/jpeg:https://www.whitehorse.ca/wp-content/uploads/2025/06/VisionZero.jpg
LOCATION:
END:VEVENT
END:VCALENDAR