BEGIN:VCALENDAR
VERSION:2.0
PRODID:-//City of Whitehorse - ECPv6.15.17.1//NONSGML v1.0//EN
CALSCALE:GREGORIAN
METHOD:PUBLISH
X-ORIGINAL-URL:https://www.whitehorse.ca
X-WR-CALDESC:Events for City of Whitehorse
REFRESH-INTERVAL;VALUE=DURATION:PT1H
X-Robots-Tag:noindex
X-PUBLISHED-TTL:PT1H
BEGIN:VTIMEZONE
TZID:America/Whitehorse
BEGIN:STANDARD
TZOFFSETFROM:-0700
TZOFFSETTO:-0700
TZNAME:MST
DTSTART:20240101T000000
END:STANDARD
END:VTIMEZONE
BEGIN:VEVENT
DTSTART;TZID=America/Whitehorse:20250627T163000
DTEND;TZID=America/Whitehorse:20250627T183000
DTSTAMP:20260421T065701
CREATED:20250320T183318Z
LAST-MODIFIED:20250626T182228Z
UID:26590-1751041800-1751049000@www.whitehorse.ca
SUMMARY:Fridays in the Park
DESCRIPTION:Kick off your weekend every Friday from 4:30 to 6:30 pm at your neighbourhood parks! \nThe City of Whitehorse\, along with our community partners\, invites families to join us for an unforgettable experience at your neighbourhood park. Where fun meets community! \nGames and activities\nSnacks and refreshments\nMusic\, fun and learning \nAt this week’s Fridays in the Park: \n\nHumane Society Yukon\nThe Humane Society team will be demonstrating how to safely handle and care for dogs and puppies. \nYukon Literacy Coalition\nJoin our friends from the Family Literacy Centre on the Go for Literacy Bus! Crafts\, games\, stories\, and more. \nYukon University\nTry out STEAM (Science\, Technology\, Engineering\, Arts\, and Math) activities with Yukon University. \nThe Disciples Robotics Team\nLearn the basics of driving\, building\, and competing in a robotics competition. \n\n\nWe’ll also have the City’s Sustainability team joining the fun to explore ways – big and small – to act on climate change and leave a smaller footprint.  The Whitehorse Fire Department will be on-hand with information about fire and home safety and Bylaw Services will provide information about the importance of having your animal on-leash while out and about in the city. Recreation will also be bringing games. \nThe City’s Parks team is bringing games\, freezies and Klondike Kettle Corn to share! \n\nTo ensure a safe and enjoyable experience for all\, we kindly ask that children under 12 be accompanied by a guardian throughout the event. Weather dependent. Contact Parks@whitehorse.ca for more info. \nMay 23: Alsek & Blanchard Park\nMay 30: Hillcrest Park\nJune 6: Goddard Park\nJune 13: Lazulite Park\nJune 20: Crestview Park\nJune 27: Normandy Park\nJuly 4: Granger Park\nJuly 11: Valleyview Park\nJuly 18: Logan Park\nJuly 25: Chadburn Lake\nAug 1: Pond Park\nAug 8: Stan McCowan Park\nAug 15: Alsek Park\nAug 22: Pine Street Park\nAug 29: Jim Light Park
URL:https://www.whitehorse.ca/event/fridays-in-the-park-20/
LOCATION:Normandy Park\, Takhini\, Normandy Road and Falaise Road\, Whitehorse\, Yukon\, Canada
CATEGORIES:Government
ATTACH;FMTTYPE=image/jpeg:https://www.whitehorse.ca/wp-content/uploads/2024/04/FITP-2025-square-B.jpg
END:VEVENT
END:VCALENDAR