BEGIN:VCALENDAR
VERSION:2.0
PRODID:-//City of Whitehorse - ECPv6.15.17.1//NONSGML v1.0//EN
CALSCALE:GREGORIAN
METHOD:PUBLISH
X-ORIGINAL-URL:https://www.whitehorse.ca
X-WR-CALDESC:Events for City of Whitehorse
REFRESH-INTERVAL;VALUE=DURATION:PT1H
X-Robots-Tag:noindex
X-PUBLISHED-TTL:PT1H
BEGIN:VTIMEZONE
TZID:America/Whitehorse
BEGIN:STANDARD
TZOFFSETFROM:-0700
TZOFFSETTO:-0700
TZNAME:MST
DTSTART:20240101T000000
END:STANDARD
END:VTIMEZONE
BEGIN:VEVENT
DTSTART;TZID=America/Whitehorse:20250923T100000
DTEND;TZID=America/Whitehorse:20250923T133000
DTSTAMP:20260425T095202
CREATED:20250827T225151Z
LAST-MODIFIED:20250827T225151Z
UID:27669-1758621600-1758634200@www.whitehorse.ca
SUMMARY:FireSmart Bylaw and Policy Amendments Workshops
DESCRIPTION:The City of Whitehorse will host two in-person sessions as it continues to seek public feedback on proposed bylaw and policy changes to help reduce wildfire risk to Whitehorse properties. \nThe sessions will be held September 22 and 23 at the Robert Service Campground Building. \nMonday\, September 22\n3 p.m. – 6 p.m.: drop-in session\n6:30 p.m. – 8:30 p.m.: facilitated workshop \nTuesday\, September 23\n10 a.m. – 11:30 a.m.: drop-in session\n12 p.m. – 1:30 p.m.: facilitated workshop \nResidents can learn more about and provide feedback on the proposed changes to the City’s Zoning Bylaw\, Maintenance Bylaw\, Plumbing Bylaw and the City’s Tree Removal Policy to strengthen wildfire protection. \nFind the full list of proposed amendments at engagewhitehorse.ca/firesmart-bylaw.
URL:https://www.whitehorse.ca/event/firesmart-bylaw-and-policy-amendments-workshops/2025-09-23/
LOCATION:Robert Service Campground\, 120 Robert Service Way\, Whitehorse\, YT\, Canada
CATEGORIES:Public Consultation
ORGANIZER;CN="":MAILTO:stephanie.waddell@whitehorse.ca
END:VEVENT
END:VCALENDAR