BEGIN:VCALENDAR
VERSION:2.0
PRODID:-//City of Whitehorse - ECPv6.15.17.1//NONSGML v1.0//EN
CALSCALE:GREGORIAN
METHOD:PUBLISH
X-WR-CALNAME:City of Whitehorse
X-ORIGINAL-URL:https://www.whitehorse.ca
X-WR-CALDESC:Events for City of Whitehorse
REFRESH-INTERVAL;VALUE=DURATION:PT1H
X-Robots-Tag:noindex
X-PUBLISHED-TTL:PT1H
BEGIN:VTIMEZONE
TZID:America/Whitehorse
BEGIN:STANDARD
TZOFFSETFROM:-0700
TZOFFSETTO:-0700
TZNAME:MST
DTSTART:20250101T000000
END:STANDARD
END:VTIMEZONE
BEGIN:VEVENT
DTSTART;VALUE=DATE:20260930
DTEND;VALUE=DATE:20261001
DTSTAMP:20260419T113920
CREATED:20260128T163255Z
LAST-MODIFIED:20260128T163255Z
UID:28610-1790726400-1790812799@www.whitehorse.ca
SUMMARY:National Day for Truth and Reconciliation
DESCRIPTION:Most City facilities and services will be closed on Wednesday\, September 30\, including the Canada Games Centre. \nThe Frank Slim Building in Shipyards Park will be open 11 a.m. – 4 p.m. \nWeekend service will be in effect for Transit\, the Waste Management Facility will be open\, and Curbside Collection will continue as normal for Porter Creek and Crestview.
URL:https://www.whitehorse.ca/event/national-day-for-truth-and-reconciliation-4/
CATEGORIES:Holidays
ATTACH;FMTTYPE=image/jpeg:https://www.whitehorse.ca/wp-content/uploads/2024/06/holiday-hours-scaled.jpg
END:VEVENT
END:VCALENDAR