BEGIN:VCALENDAR
VERSION:2.0
PRODID:-//City of Whitehorse - ECPv6.15.17.1//NONSGML v1.0//EN
CALSCALE:GREGORIAN
METHOD:PUBLISH
X-ORIGINAL-URL:https://www.whitehorse.ca
X-WR-CALDESC:Events for City of Whitehorse
REFRESH-INTERVAL;VALUE=DURATION:PT1H
X-Robots-Tag:noindex
X-PUBLISHED-TTL:PT1H
BEGIN:VTIMEZONE
TZID:America/Whitehorse
BEGIN:STANDARD
TZOFFSETFROM:-0700
TZOFFSETTO:-0700
TZNAME:MST
DTSTART:20250101T000000
END:STANDARD
END:VTIMEZONE
BEGIN:VEVENT
DTSTART;VALUE=DATE:20261012
DTEND;VALUE=DATE:20261013
DTSTAMP:20260419T175130
CREATED:20260128T163817Z
LAST-MODIFIED:20260128T164450Z
UID:28612-1791763200-1791849599@www.whitehorse.ca
SUMMARY:Thanksgiving
DESCRIPTION:Most City facilities and services including the Canada Games Centre will be closed on Monday\, October 12. \nThe Frank Slim Building in Shipyards Park will be open 11 a.m. – 4 p.m. \nWeekend service will be in effect for Transit\, the Waste Management Facility will be open\, and Curbside Collection will continue as normal for Logan\, Copper Ridge\, Whistle Bend.
URL:https://www.whitehorse.ca/event/thanksgiving-2/
CATEGORIES:Holidays
ATTACH;FMTTYPE=image/jpeg:https://www.whitehorse.ca/wp-content/uploads/2024/06/holiday-hours2-scaled.jpg
END:VEVENT
END:VCALENDAR