BEGIN:VCALENDAR
VERSION:2.0
PRODID:-//City of Whitehorse - ECPv6.15.17.1//NONSGML v1.0//EN
CALSCALE:GREGORIAN
METHOD:PUBLISH
X-ORIGINAL-URL:https://www.whitehorse.ca
X-WR-CALDESC:Events for City of Whitehorse
REFRESH-INTERVAL;VALUE=DURATION:PT1H
X-Robots-Tag:noindex
X-PUBLISHED-TTL:PT1H
BEGIN:VTIMEZONE
TZID:America/Whitehorse
BEGIN:STANDARD
TZOFFSETFROM:-0700
TZOFFSETTO:-0700
TZNAME:MST
DTSTART:20250101T000000
END:STANDARD
END:VTIMEZONE
BEGIN:VEVENT
DTSTART;VALUE=DATE:20261111
DTEND;VALUE=DATE:20261112
DTSTAMP:20260424T120004
CREATED:20260128T165133Z
LAST-MODIFIED:20260128T165133Z
UID:28613-1794355200-1794441599@www.whitehorse.ca
SUMMARY:Remembrance Day
DESCRIPTION:Many City facilities and services will be closed on Wednesday\, November 11 to observe Remembrance Day. \nThe Canada Games Centre will be open with reduced hours from 1 to 6 pm. \nThe Frank Slim Building in Shipyards Park will be open from 11 am to 4 pm. \nWeekend service will be in effect for Transit. \nCurbside Collection will continue as normal for Porter Creek and Crestview. \nThe Waste Management Facility will operate during regular hours.
URL:https://www.whitehorse.ca/event/remembrance-day-5/
CATEGORIES:Holidays
ATTACH;FMTTYPE=image/jpeg:https://www.whitehorse.ca/wp-content/uploads/2024/06/holiday-hours3-scaled.jpg
END:VEVENT
END:VCALENDAR