BEGIN:VCALENDAR
VERSION:2.0
PRODID:-//City of Whitehorse - ECPv6.15.17.1//NONSGML v1.0//EN
CALSCALE:GREGORIAN
METHOD:PUBLISH
X-ORIGINAL-URL:https://www.whitehorse.ca
X-WR-CALDESC:Events for City of Whitehorse
REFRESH-INTERVAL;VALUE=DURATION:PT1H
X-Robots-Tag:noindex
X-PUBLISHED-TTL:PT1H
BEGIN:VTIMEZONE
TZID:America/Whitehorse
BEGIN:STANDARD
TZOFFSETFROM:-0700
TZOFFSETTO:-0700
TZNAME:MST
DTSTART:20240101T000000
END:STANDARD
END:VTIMEZONE
BEGIN:VEVENT
DTSTART;VALUE=DATE:20250101
DTEND;VALUE=DATE:20250102
DTSTAMP:20260425T055025
CREATED:20240625T183454Z
LAST-MODIFIED:20241231T010342Z
UID:22185-1735689600-1735775999@www.whitehorse.ca
SUMMARY:New Year's Day
DESCRIPTION:City offices are closed and most services are not operating today. \nClosures include the Frank Slim Building\, the Canada Games Centre\, the Waste Management Facility\, and Transit. \nCurbside Collection for Porter Creek and Crestview will be on Friday\, January 3. \nFor complaints outside of office hours\, please call the Trouble Line at 667-2111\, and in the event of an emergency\, please call 9-1-1. \nHappy New Year!
URL:https://www.whitehorse.ca/event/new-years-day-2/
LOCATION:Yukon
CATEGORIES:Government,Special Events
END:VEVENT
BEGIN:VEVENT
DTSTART;TZID=America/Whitehorse:20250103T160000
DTEND;TZID=America/Whitehorse:20250103T180000
DTSTAMP:20260425T055025
CREATED:20241101T231432Z
LAST-MODIFIED:20241104T214700Z
UID:23944-1735920000-1735927200@www.whitehorse.ca
SUMMARY:Tobogganing Fridays
DESCRIPTION:Every Friday\, from November 15 to March 14\, children and caregivers are invited to join us for sledding and hot chocolate at Shipyards Park. We’ll be there from 4 to 6 pm. We hope to see you too! \nBring your sleds! We’ll have a few sleds for those who don’t have access to one. \nGuardian supervision is required at all times. Kids 5 and under should have a responsible adult with them on the sled. Cancelled if -20 or colder. Brr! \nStaying Safe \n• Go down the hill sitting up or kneeling on the sled. Don’t go down the hill head first or flat on your back. It’s much easier to hurt your head or spine in these positions. \n• When you get to the bottom of the hill\, move quickly out of the way\, and walk up the side of the hill away from others. \nGear and Clothing \n• Check your sled to make sure it’s in good shape before you use it. \n• Dress in warm layers including; mittens instead of gloves; warm\, dry\, waterproof boots that aren’t too tight; a neck warmer instead of scarf; clothes without drawstrings and a hat that keeps ears covered. \n• Wear a helmet (hockey\, ski\, or snowboard type). If possible\, wear a ski helmet because they’re made for cold weather and for similar falls and speeds. \nContact our Parks and Community Development team at parks@whitehorse.ca if you have any questions.
URL:https://www.whitehorse.ca/event/tobogganingfridays-2025-01-03/
LOCATION:Shipyards Park
CATEGORIES:Government
ATTACH;FMTTYPE=image/jpeg:https://www.whitehorse.ca/wp-content/uploads/2024/11/toboganing-fridays_socials_square.jpg
END:VEVENT
BEGIN:VEVENT
DTSTART;TZID=America/Whitehorse:20250106T173000
DTEND;TZID=America/Whitehorse:20250106T203000
DTSTAMP:20260425T055025
CREATED:20241211T220053Z
LAST-MODIFIED:20241211T220053Z
UID:26033-1736184600-1736195400@www.whitehorse.ca
SUMMARY:City Council Meeting
DESCRIPTION:Council Chambers is open to the public and delegates may attend in-person. \nIf you wish to present to council or committee\, please notify Legislative Services by 12 p.m. on the day of the Council or Committee meeting at legsvcs@whitehorse.ca. \nWatch Council meetings at bit.ly/2UmF1ty or on Northwestel Channel 209. More info at: whitehorse.ca/meetings \nCity Hall is located at 2121 2nd Avenue. Please use the Steele Street entrance.
URL:https://www.whitehorse.ca/event/city-council-meeting-13/2025-01-06/
LOCATION:Whitehorse City Hall\, 2121 2nd Avenue\, Whitehorse\, Yukon\, Y1A 1C2\, Canada
CATEGORIES:Government
ATTACH;FMTTYPE=image/jpeg:https://www.whitehorse.ca/wp-content/uploads/2024/10/Council4.jpg
END:VEVENT
BEGIN:VEVENT
DTSTART;TZID=America/Whitehorse:20250110T160000
DTEND;TZID=America/Whitehorse:20250110T180000
DTSTAMP:20260425T055025
CREATED:20241101T231432Z
LAST-MODIFIED:20241104T214913Z
UID:23945-1736524800-1736532000@www.whitehorse.ca
SUMMARY:Tobogganing Fridays
DESCRIPTION:Every Friday\, from November 15 to March 14\, children and caregivers are invited to join us for sledding and hot chocolate at Shipyards Park. We’ll be there from 4 to 6 pm. We hope to see you too! \nBring your sleds! We’ll have a few sleds for those who don’t have access to one. \nGuardian supervision is required at all times. Kids 5 and under should have a responsible adult with them on the sled. Cancelled if -20 or colder. Brr! \nStaying Safe \n• Go down the hill sitting up or kneeling on the sled. Don’t go down the hill head first or flat on your back. It’s much easier to hurt your head or spine in these positions. \n• When you get to the bottom of the hill\, move quickly out of the way\, and walk up the side of the hill away from others. \nGear and Clothing \n• Check your sled to make sure it’s in good shape before you use it. \n• Dress in warm layers including; mittens instead of gloves; warm\, dry\, waterproof boots that aren’t too tight; a neck warmer instead of scarf; clothes without drawstrings and a hat that keeps ears covered. \n• Wear a helmet (hockey\, ski\, or snowboard type). If possible\, wear a ski helmet because they’re made for cold weather and for similar falls and speeds. \nContact our Parks and Community Development team at parks@whitehorse.ca if you have any questions.
URL:https://www.whitehorse.ca/event/tobogganingfridays-2025-01-10/
LOCATION:Shipyards Park
CATEGORIES:Government
ATTACH;FMTTYPE=image/jpeg:https://www.whitehorse.ca/wp-content/uploads/2024/11/toboganing-fridays_socials_square.jpg
END:VEVENT
BEGIN:VEVENT
DTSTART;TZID=America/Whitehorse:20250116T160000
DTEND;TZID=America/Whitehorse:20250116T170000
DTSTAMP:20260425T055025
CREATED:20250110T225706Z
LAST-MODIFIED:20250116T170319Z
UID:26203-1737043200-1737046800@www.whitehorse.ca
SUMMARY:Snowshoe Strolls
DESCRIPTION:Join the City and get to know Whitehorse’s neighbourhood trails. \nEvery second Thursday from January 16 to March 27\, the City will host a family-friendly snowshoe walk along a neighbourhood trail. A knowledgeable guide will be on-hand for each walk\, sharing facts about local plants and wildlife. \nThe walks will take place from 4 p.m. to 5 p.m. on a different neighbourhood trail each time. No need to register; simply show up at 4 p.m. at the walk’s location. \nThe first walk will take place in partnership with the Yukon Conservation Society on January 16 at Birch Loop in Crestview off Rainbow Road. \nAll ages are welcome. Children must be accompanied by an adult. Snowshoes will be provided by the City for free. Each walk can accommodate up to 15 participants on a first come\, first served basis. \nThose taking part are reminded to dress in layers and bring water bottles for this scenic adventure. \nWalks will be cancelled if the temperature is -25C or lower including wind chill. \nFor more information\, contact parks@whitehorse.ca.
URL:https://www.whitehorse.ca/event/snowshoe-strolls/
LOCATION:Yukon
CATEGORIES:Government
ATTACH;FMTTYPE=image/jpeg:https://www.whitehorse.ca/wp-content/uploads/2025/01/Snowshoes-Strolls.jpg
END:VEVENT
BEGIN:VEVENT
DTSTART;TZID=America/Whitehorse:20250117T160000
DTEND;TZID=America/Whitehorse:20250117T180000
DTSTAMP:20260425T055025
CREATED:20241101T231432Z
LAST-MODIFIED:20241104T215129Z
UID:23946-1737129600-1737136800@www.whitehorse.ca
SUMMARY:Tobogganing Fridays
DESCRIPTION:Every Friday\, from November 15 to March 14\, children and caregivers are invited to join us for sledding and hot chocolate at Shipyards Park. We’ll be there from 4 to 6 pm. We hope to see you too! \nBring your sleds! We’ll have a few sleds for those who don’t have access to one. \nGuardian supervision is required at all times. Kids 5 and under should have a responsible adult with them on the sled. Cancelled if -20 or colder. Brr! \nStaying Safe \n• Go down the hill sitting up or kneeling on the sled. Don’t go down the hill head first or flat on your back. It’s much easier to hurt your head or spine in these positions. \n• When you get to the bottom of the hill\, move quickly out of the way\, and walk up the side of the hill away from others. \nGear and Clothing \n• Check your sled to make sure it’s in good shape before you use it. \n• Dress in warm layers including; mittens instead of gloves; warm\, dry\, waterproof boots that aren’t too tight; a neck warmer instead of scarf; clothes without drawstrings and a hat that keeps ears covered. \n• Wear a helmet (hockey\, ski\, or snowboard type). If possible\, wear a ski helmet because they’re made for cold weather and for similar falls and speeds. \nContact our Parks and Community Development team at parks@whitehorse.ca if you have any questions.
URL:https://www.whitehorse.ca/event/tobogganingfridays-2025-01-17/
LOCATION:Shipyards Park
CATEGORIES:Government
ATTACH;FMTTYPE=image/jpeg:https://www.whitehorse.ca/wp-content/uploads/2024/11/toboganing-fridays_socials_square.jpg
END:VEVENT
BEGIN:VEVENT
DTSTART;TZID=America/Whitehorse:20250124T160000
DTEND;TZID=America/Whitehorse:20250124T180000
DTSTAMP:20260425T055025
CREATED:20241101T231432Z
LAST-MODIFIED:20241104T215526Z
UID:23947-1737734400-1737741600@www.whitehorse.ca
SUMMARY:Tobogganing Fridays
DESCRIPTION:Every Friday\, from November 15 to March 14\, children and caregivers are invited to join us for sledding and hot chocolate at Shipyards Park. We’ll be there from 4 to 6 pm. We hope to see you too! \nBring your sleds! We’ll have a few sleds for those who don’t have access to one. \nGuardian supervision is required at all times. Kids 5 and under should have a responsible adult with them on the sled. Cancelled if -20 or colder. Brr! \nStaying Safe \n• Go down the hill sitting up or kneeling on the sled. Don’t go down the hill head first or flat on your back. It’s much easier to hurt your head or spine in these positions. \n• When you get to the bottom of the hill\, move quickly out of the way\, and walk up the side of the hill away from others. \nGear and Clothing \n• Check your sled to make sure it’s in good shape before you use it. \n• Dress in warm layers including; mittens instead of gloves; warm\, dry\, waterproof boots that aren’t too tight; a neck warmer instead of scarf; clothes without drawstrings and a hat that keeps ears covered. \n• Wear a helmet (hockey\, ski\, or snowboard type). If possible\, wear a ski helmet because they’re made for cold weather and for similar falls and speeds. \nContact our Parks and Community Development team at parks@whitehorse.ca if you have any questions.
URL:https://www.whitehorse.ca/event/tobogganingfridays-2025-01-24/
LOCATION:Shipyards Park
CATEGORIES:Government
ATTACH;FMTTYPE=image/jpeg:https://www.whitehorse.ca/wp-content/uploads/2024/11/toboganing-fridays_socials_square.jpg
END:VEVENT
BEGIN:VEVENT
DTSTART;TZID=America/Whitehorse:20250131T160000
DTEND;TZID=America/Whitehorse:20250131T180000
DTSTAMP:20260425T055025
CREATED:20241101T231432Z
LAST-MODIFIED:20250131T173900Z
UID:23948-1738339200-1738346400@www.whitehorse.ca
SUMMARY:Tobogganing Fridays
DESCRIPTION:Update: Cancelled January 31 due to cold weather \nEvery Friday\, from November 15 to March 14\, children and caregivers are invited to join us for sledding and hot chocolate at Shipyards Park. We’ll be there from 4 to 6 pm. We hope to see you too! \nBring your sleds! We’ll have a few sleds for those who don’t have access to one. \nGuardian supervision is required at all times. Kids 5 and under should have a responsible adult with them on the sled. Cancelled if -20 or colder. Brr! \nStaying Safe \n• Go down the hill sitting up or kneeling on the sled. Don’t go down the hill head first or flat on your back. It’s much easier to hurt your head or spine in these positions. \n• When you get to the bottom of the hill\, move quickly out of the way\, and walk up the side of the hill away from others. \nGear and Clothing \n• Check your sled to make sure it’s in good shape before you use it. \n• Dress in warm layers including; mittens instead of gloves; warm\, dry\, waterproof boots that aren’t too tight; a neck warmer instead of scarf; clothes without drawstrings and a hat that keeps ears covered. \n• Wear a helmet (hockey\, ski\, or snowboard type). If possible\, wear a ski helmet because they’re made for cold weather and for similar falls and speeds. \nContact our Parks and Community Development team at parks@whitehorse.ca if you have any questions.
URL:https://www.whitehorse.ca/event/tobogganingfridays-2025-01-31/
LOCATION:Shipyards Park
CATEGORIES:Government
ATTACH;FMTTYPE=image/jpeg:https://www.whitehorse.ca/wp-content/uploads/2024/11/toboganing-fridays_socials_square.jpg
END:VEVENT
END:VCALENDAR