BEGIN:VCALENDAR
VERSION:2.0
PRODID:-//City of Whitehorse - ECPv6.15.17.1//NONSGML v1.0//EN
CALSCALE:GREGORIAN
METHOD:PUBLISH
X-ORIGINAL-URL:https://www.whitehorse.ca
X-WR-CALDESC:Events for City of Whitehorse
REFRESH-INTERVAL;VALUE=DURATION:PT1H
X-Robots-Tag:noindex
X-PUBLISHED-TTL:PT1H
BEGIN:VTIMEZONE
TZID:America/Whitehorse
BEGIN:STANDARD
TZOFFSETFROM:-0700
TZOFFSETTO:-0700
TZNAME:MST
DTSTART:20240101T000000
END:STANDARD
END:VTIMEZONE
BEGIN:VEVENT
DTSTART;VALUE=DATE:20250818
DTEND;VALUE=DATE:20250819
DTSTAMP:20260424T153207
CREATED:20250210T205937Z
LAST-MODIFIED:20250210T205937Z
UID:26365-1755475200-1755561599@www.whitehorse.ca
SUMMARY:Discovery Day
DESCRIPTION:Most City facilities and services including the Canada Games Centre will be closed on Monday\, August 18 for Discovery Day. \nWeekend service will be in effect for Transit\, the Waste Management Facility will be open\, and curbside collection will continue as normal for Logan\, Copper Ridge\, Whistle Bend.
URL:https://www.whitehorse.ca/event/discovery-day-5/
LOCATION:Yukon
CATEGORIES:Government,Holidays
END:VEVENT
END:VCALENDAR