BEGIN:VCALENDAR
VERSION:2.0
PRODID:-//City of Whitehorse - ECPv6.15.17.1//NONSGML v1.0//EN
CALSCALE:GREGORIAN
METHOD:PUBLISH
X-ORIGINAL-URL:https://www.whitehorse.ca
X-WR-CALDESC:Events for City of Whitehorse
REFRESH-INTERVAL;VALUE=DURATION:PT1H
X-Robots-Tag:noindex
X-PUBLISHED-TTL:PT1H
BEGIN:VTIMEZONE
TZID:America/Whitehorse
BEGIN:STANDARD
TZOFFSETFROM:-0700
TZOFFSETTO:-0700
TZNAME:MST
DTSTART:20250101T000000
END:STANDARD
END:VTIMEZONE
BEGIN:VEVENT
DTSTART;VALUE=DATE:20260501
DTEND;VALUE=DATE:20260601
DTSTAMP:20260420T175633
CREATED:20260420T185205Z
LAST-MODIFIED:20260420T191010Z
UID:29026-1777593600-1780271999@www.whitehorse.ca
SUMMARY:Active Commute Month
DESCRIPTION:Let’s get moving Whitehorse! \nMay is Active Commute Month in Whitehorse – register now. \nJoin us for a month of fun\, friendly competition\, and sustainable travel. Walk\, bike\, roll\, bus\, or carpool to work\, school\, or anywhere. Every trip counts. \nCreate or join a team as a school\, business\, non-governmental organizations\, government\, or individual (solo). Earn points\, track your progress on the leaderboard\, and compete for weekly and grand prizes. \nYou can also volunteer at one of our support stations\, cheering on participants with refreshments and encouragement. \nThe City acknowledges the support of the Government of Yukon in hosting Active Commute Month. \nWhen: 7:30 a.m. – 9 a.m.\nEvery Wednesday morning during Active Commute Month \nWhere: Millennium Trail at Rotary Park\nTwo-Mile Hill Trail at Takhini Arena\nAirport Trail on the Alaska Highway\nLewes Boulevard at Alsek Road \nVisit activecommutewhitehorse.ca to register or volunteer at a support station.
URL:https://www.whitehorse.ca/event/active-commute-month/
CATEGORIES:Special Events
ATTACH;FMTTYPE=image/jpeg:https://www.whitehorse.ca/wp-content/uploads/2026/04/Active-Commute-Month.jpg
END:VEVENT
END:VCALENDAR