BEGIN:VCALENDAR
VERSION:2.0
PRODID:-//City of Whitehorse - ECPv6.15.17.1//NONSGML v1.0//EN
CALSCALE:GREGORIAN
METHOD:PUBLISH
X-ORIGINAL-URL:https://www.whitehorse.ca
X-WR-CALDESC:Events for City of Whitehorse
REFRESH-INTERVAL;VALUE=DURATION:PT1H
X-Robots-Tag:noindex
X-PUBLISHED-TTL:PT1H
BEGIN:VTIMEZONE
TZID:America/Whitehorse
BEGIN:STANDARD
TZOFFSETFROM:-0700
TZOFFSETTO:-0700
TZNAME:MST
DTSTART:20210101T000000
END:STANDARD
END:VTIMEZONE
BEGIN:VTIMEZONE
TZID:UTC
BEGIN:STANDARD
TZOFFSETFROM:+0000
TZOFFSETTO:+0000
TZNAME:UTC
DTSTART:20210101T000000
END:STANDARD
END:VTIMEZONE
BEGIN:VEVENT
DTSTART;TZID=America/Whitehorse:20221101T083000
DTEND;TZID=America/Whitehorse:20221103T163000
DTSTAMP:20260424T084344
CREATED:20221027T201437Z
LAST-MODIFIED:20221027T201437Z
UID:9481-1667291400-1667493000@www.whitehorse.ca
SUMMARY:Yukon Recycling Summit
DESCRIPTION:The Government of Yukon\, Department of Environment and City of Whitehorse are co-hosting a Recycling Summit from November 1 to 3. \nYou’re invited to an open house on November 1 from 4 pm to 7 pm at the Kwanlin Dün Cultural Centre. The open house will feature booths from local organizations\, art installations and workshops. This is also an opportunity to submit feedback on how Extended Producer Responsibility (EPR) should work in the Yukon. \nThe Summit will bring together organizations and Yukoners interested in recycling and waste diversion to learn more about the circular economy in the Yukon. \nNovember 1 and 2 \nPlenary and facilitated conversations with a range of perspectives on waste\, recycling and circular economy. \nNovember 3 \nField trips to local waste and recycling facilities. \nVirtual or in-person attendance is available. Registration is free. \nFind out more information on the Summit\, and register at: www.eventbrite.ca/e/yukon-recycling-summit-tickets-373015899597
URL:https://www.whitehorse.ca/event/yukon-recycling-summit/
CATEGORIES:Government
END:VEVENT
BEGIN:VEVENT
DTSTART;VALUE=DATE:20221102
DTEND;VALUE=DATE:20221106
DTSTAMP:20260424T084344
CREATED:20221101T201402Z
LAST-MODIFIED:20221101T201402Z
UID:9487-1667347200-1667692799@www.whitehorse.ca
SUMMARY:Yukoner Appreciation Week
DESCRIPTION:When you shop local\, you’re not just helping one business. Your support enables local businesses to turn around and help sponsor and support community events\, sports teams\, and worthy causes that make Whitehorse special! \nYukoner Appreciation Week is powered by the Whitehorse Chamber of Commerce. Find participating businesses and the map right here: WhitehorseChamber.ca/YukonerWeek
URL:https://www.whitehorse.ca/event/yukoner-appreciation-week/
CATEGORIES:Special Events
END:VEVENT
BEGIN:VEVENT
DTSTART;TZID=America/Whitehorse:20221103T160000
DTEND;TZID=America/Whitehorse:20221103T173000
DTSTAMP:20260424T084344
CREATED:20220825T183025Z
LAST-MODIFIED:20221026T161832Z
UID:8175-1667491200-1667496600@www.whitehorse.ca
SUMMARY:Badminton
DESCRIPTION:Badminton racquet with shuttlecock available for rent: $3.95 each (free with 6 Month or 1 Year Membership).
URL:https://www.whitehorse.ca/event/badminton-4-2022-11-03/
LOCATION:Powerade Flexihall
CATEGORIES:Flexi Activities
END:VEVENT
BEGIN:VEVENT
DTSTART;TZID=America/Whitehorse:20221104T053000
DTEND;TZID=America/Whitehorse:20221104T153000
DTSTAMP:20260424T084344
CREATED:20220824T181709Z
LAST-MODIFIED:20221019T202005Z
UID:6407-1667539800-1667575800@www.whitehorse.ca
SUMMARY:Hot Tub\, Sauna & Steam Room
DESCRIPTION:Capacity: 20 people\nAvailable on a first come first serve basis.\nRecommend maximum stay of 15 minutes for adults and 5 minutes for children. \nHot tub capacities are reduced during lesson times for the following:\nSundays 9:30 AM – 1:00 PM\nMondays 8:45 AM – 11:00 AM\nTuesdays 3:30 PM – 6:15 PM\nThursdays 3:30 PM – 6:15 PM\nSaturdays 10:00 AM – 1:00 PM
URL:https://www.whitehorse.ca/event/hot-tub-sauna-steam-room-6-2022-11-04/
LOCATION:Swimming Pool
CATEGORIES:Swimming
END:VEVENT
BEGIN:VEVENT
DTSTART;TZID=America/Whitehorse:20221104T053000
DTEND;TZID=America/Whitehorse:20221104T153000
DTSTAMP:20260424T084344
CREATED:20221018T204252Z
LAST-MODIFIED:20221019T201847Z
UID:9355-1667539800-1667575800@www.whitehorse.ca
SUMMARY:Lane Swim
DESCRIPTION:Ages: 12+years. \nThe lap pool is set up for length swimming in double lanes. Swim in a circular pattern. Know your speed and choose the appropriate lane.
URL:https://www.whitehorse.ca/event/lane-swim-8-2022-11-04/
LOCATION:Lap Pool
CATEGORIES:Swimming
END:VEVENT
BEGIN:VEVENT
DTSTART;TZID=America/Whitehorse:20221104T143000
DTEND;TZID=America/Whitehorse:20221104T153000
DTSTAMP:20260424T084344
CREATED:20220824T180618Z
LAST-MODIFIED:20221019T202148Z
UID:6172-1667572200-1667575800@www.whitehorse.ca
SUMMARY:Physio Swim
DESCRIPTION:Ages: 12+ year. \nDesigned for swimmers who need the stairs\, want the comfort of the wall or are using the lane for physiotherapy or rehabilitation purposes.
URL:https://www.whitehorse.ca/event/physio-swim-8-2022-11-04-2/
LOCATION:Lap Pool
CATEGORIES:Swimming
END:VEVENT
BEGIN:VEVENT
DTSTART;TZID=America/Whitehorse:20221104T153000
DTEND;TZID=America/Whitehorse:20221104T220000
DTSTAMP:20260424T084344
CREATED:20221019T202350Z
LAST-MODIFIED:20221201T204039Z
UID:9436-1667575800-1667599200@www.whitehorse.ca
SUMMARY:Booked Event in Whitehorse Lions Aquatic Centre
DESCRIPTION:The drop-in schedule is affected by a booked event.
URL:https://www.whitehorse.ca/event/booked-event-in-whitehorse-lions-aquatic-centre/2022-11-04/
LOCATION:Swimming Pool
CATEGORIES:Swimming
END:VEVENT
BEGIN:VEVENT
DTSTART;TZID=America/Whitehorse:20221104T173000
DTEND;TZID=America/Whitehorse:20221104T220000
DTSTAMP:20260424T084344
CREATED:20220825T183836Z
LAST-MODIFIED:20221026T161947Z
UID:8331-1667583000-1667599200@www.whitehorse.ca
SUMMARY:Basketball
DESCRIPTION:A time to come and practice your basketball skills.  Basketballs provided with collateral. \n 
URL:https://www.whitehorse.ca/event/basketball-5-2022-11-04-3/
LOCATION:Powerade Flexihall
CATEGORIES:Flexi Activities
END:VEVENT
BEGIN:VEVENT
DTSTART;TZID=America/Whitehorse:20221106T070000
DTEND;TZID=America/Whitehorse:20221106T130000
DTSTAMP:20260424T084344
CREATED:20220824T190404Z
LAST-MODIFIED:20221026T165741Z
UID:9261-1667718000-1667739600@www.whitehorse.ca
SUMMARY:Family Swim
DESCRIPTION:Spend family time together in the Leisure Pool. All children must be with an adult and all adults must be with children. Limited features and some toys available.\nPlease note: Children 0-6 years must be within arms’ reach of an adult at all times\, and a ratio of 1 adult to 3 children is enforced.
URL:https://www.whitehorse.ca/event/family-swim-7-2022-11-06/
LOCATION:Leisure Pool
CATEGORIES:Swimming
END:VEVENT
BEGIN:VEVENT
DTSTART;TZID=UTC:20221107T173000
DTEND;TZID=UTC:20221107T173000
DTSTAMP:20260424T084344
CREATED:20220528T015442Z
LAST-MODIFIED:20221104T215935Z
UID:1851-1667842200-1667842200@www.whitehorse.ca
SUMMARY:Standing Committee Meeting
DESCRIPTION:
URL:https://www.whitehorse.ca/event/standing-committee-meeting-9/
CATEGORIES:Government
END:VEVENT
BEGIN:VEVENT
DTSTART;VALUE=DATE:20221111
DTEND;VALUE=DATE:20221112
DTSTAMP:20260424T084344
CREATED:20221031T222648Z
LAST-MODIFIED:20221109T221546Z
UID:9506-1668124800-1668211199@www.whitehorse.ca
SUMMARY:Remembrance Day
DESCRIPTION:The Canada Games Centre will be open with reduced hours from 1 p.m. to 6 p.m. \nRemembrance day Ceremony  begins at 10:25 AM / Drop-in activities begin at 1 PM \nFree shuttle services between Takhini Arena and the Canada Games Centre from 8 AM-10:15 AM & 11:30 AM-1 PM
URL:https://www.whitehorse.ca/event/remembrance-day-2/
LOCATION:Canada Games Centre
CATEGORIES:Field Activities,Fitness,Flexi Activities,Holidays,Skating,Swimming
ATTACH;FMTTYPE=image/jpeg:https://www.whitehorse.ca/wp-content/uploads/2022/10/Remembrance-Day.jpg
END:VEVENT
BEGIN:VEVENT
DTSTART;TZID=America/Whitehorse:20221111T130000
DTEND;TZID=America/Whitehorse:20221111T154500
DTSTAMP:20260424T084344
CREATED:20220825T163942Z
LAST-MODIFIED:20221031T181057Z
UID:9499-1668171600-1668181500@www.whitehorse.ca
SUMMARY:Family Pucks n Sticks
DESCRIPTION:Ages:  Children up to age 9 accompanied on ice by an adult. \nPractice skating\, stick handling and shooting skills. Pick-up games of hockey are not allowed during this time.\nHelmets and gloves are mandatory.
URL:https://www.whitehorse.ca/event/family-pucks-n-sticks-3-2022-11-11/
LOCATION:Northwestel Arena
CATEGORIES:Skating
END:VEVENT
BEGIN:VEVENT
DTSTART;TZID=America/Whitehorse:20221111T130000
DTEND;TZID=America/Whitehorse:20221111T160000
DTSTAMP:20260424T084344
CREATED:20220824T190404Z
LAST-MODIFIED:20221031T183659Z
UID:9500-1668171600-1668182400@www.whitehorse.ca
SUMMARY:Family Swim
DESCRIPTION:Spend family time together in the Leisure Pool. All children must be with an adult and all adults must be with children. Limited features and some toys available.\nPlease note: Children 0-6 years must be within arms’ reach of an adult at all times\, and a ratio of 1 adult to 3 children is enforced.
URL:https://www.whitehorse.ca/event/family-swim-7-2022-11-11/
LOCATION:Leisure Pool
CATEGORIES:Swimming
END:VEVENT
BEGIN:VEVENT
DTSTART;TZID=America/Whitehorse:20221111T130000
DTEND;TZID=America/Whitehorse:20221111T180000
DTSTAMP:20260424T084344
CREATED:20220824T181709Z
LAST-MODIFIED:20221031T184045Z
UID:9502-1668171600-1668189600@www.whitehorse.ca
SUMMARY:Hot Tub\, Sauna & Steam Room
DESCRIPTION:Capacity: 20 people\nAvailable on a first come first serve basis.\nRecommend maximum stay of 15 minutes for adults and 5 minutes for children. \nHot tub capacities are reduced during lesson times for the following:\nSundays 9:30 AM – 1:00 PM\nMondays 8:45 AM – 11:00 AM\nTuesdays 3:30 PM – 6:15 PM\nThursdays 3:30 PM – 6:15 PM\nSaturdays 10:00 AM – 1:00 PM
URL:https://www.whitehorse.ca/event/hot-tub-sauna-steam-room-6-2022-11-11/
LOCATION:Swimming Pool
CATEGORIES:Swimming
END:VEVENT
BEGIN:VEVENT
DTSTART;TZID=America/Whitehorse:20221111T130000
DTEND;TZID=America/Whitehorse:20221111T180000
DTSTAMP:20260424T084344
CREATED:20220825T162105Z
LAST-MODIFIED:20221031T181027Z
UID:9496-1668171600-1668189600@www.whitehorse.ca
SUMMARY:Public Skate
DESCRIPTION:A time for everyone to grab their skates and enjoy our indoor facility.\nHelmets are strongly recommended for children.
URL:https://www.whitehorse.ca/event/public-skate-2-2022-11-11-2/
LOCATION:ATCO Ice
CATEGORIES:Skating
END:VEVENT
BEGIN:VEVENT
DTSTART;TZID=America/Whitehorse:20221111T130000
DTEND;TZID=America/Whitehorse:20221111T180000
DTSTAMP:20260424T084344
CREATED:20220825T171828Z
LAST-MODIFIED:20221031T185637Z
UID:9504-1668171600-1668189600@www.whitehorse.ca
SUMMARY:Families on the Move
DESCRIPTION:A time for caregivers with young children to explore\, create\, imagine\, and play together. Toys and equipment provided. This activity has limited space\, so please check in at Reception prior to use to ensure availability.
URL:https://www.whitehorse.ca/event/families-on-the-move-10-2022-11-11-2/
LOCATION:Coca-Cola Fieldhouse
CATEGORIES:Field Activities
END:VEVENT
BEGIN:VEVENT
DTSTART;TZID=America/Whitehorse:20221111T130000
DTEND;TZID=America/Whitehorse:20221111T180000
DTSTAMP:20260424T084344
CREATED:20220825T172954Z
LAST-MODIFIED:20221031T185756Z
UID:9505-1668171600-1668189600@www.whitehorse.ca
SUMMARY:Soccer
DESCRIPTION:A time to come and practice your soccer skills.
URL:https://www.whitehorse.ca/event/soccer-6-2022-11-11/
LOCATION:Coca-Cola Fieldhouse
CATEGORIES:Field Activities
END:VEVENT
BEGIN:VEVENT
DTSTART;TZID=America/Whitehorse:20221111T130000
DTEND;TZID=America/Whitehorse:20221111T180000
DTSTAMP:20260424T084344
CREATED:20221018T204252Z
LAST-MODIFIED:20221031T180951Z
UID:9362-1668171600-1668189600@www.whitehorse.ca
SUMMARY:Lane Swim
DESCRIPTION:Ages: 12+years. \nThe lap pool is set up for length swimming in double lanes. Swim in a circular pattern. Know your speed and choose the appropriate lane.
URL:https://www.whitehorse.ca/event/lane-swim-8-2022-11-11/
LOCATION:Lap Pool
CATEGORIES:Swimming
END:VEVENT
BEGIN:VEVENT
DTSTART;TZID=America/Whitehorse:20221111T160000
DTEND;TZID=America/Whitehorse:20221111T180000
DTSTAMP:20260424T084344
CREATED:20220825T162935Z
LAST-MODIFIED:20221031T181124Z
UID:9498-1668182400-1668189600@www.whitehorse.ca
SUMMARY:Adult Shinny
DESCRIPTION:Ages: 18+ years\nJoin a pick-up game of non-contact hockey. Participants must have a “shinny” wristband. Full equipment is required and helmets are mandatory. Max 20 participants + 2 goalies.
URL:https://www.whitehorse.ca/event/adult-shinny-2022-11-11-2/
LOCATION:Northwestel Arena
CATEGORIES:Skating
END:VEVENT
BEGIN:VEVENT
DTSTART;TZID=UTC:20221114T173000
DTEND;TZID=UTC:20221114T173000
DTSTAMP:20260424T084344
CREATED:20220528T015524Z
LAST-MODIFIED:20221110T201550Z
UID:1852-1668447000-1668447000@www.whitehorse.ca
SUMMARY:Regular Council Meeting
DESCRIPTION:
URL:https://www.whitehorse.ca/event/regular-council-meeting-9/
CATEGORIES:Government
END:VEVENT
BEGIN:VEVENT
DTSTART;TZID=UTC:20221121T173000
DTEND;TZID=UTC:20221121T173000
DTSTAMP:20260424T084344
CREATED:20220528T015601Z
LAST-MODIFIED:20221118T234322Z
UID:1853-1669051800-1669051800@www.whitehorse.ca
SUMMARY:Standing Committee Meeting
DESCRIPTION:
URL:https://www.whitehorse.ca/event/standing-committee-meeting-10/
CATEGORIES:Government
END:VEVENT
BEGIN:VEVENT
DTSTART;TZID=America/Whitehorse:20221126T210000
DTEND;TZID=America/Whitehorse:20221126T220000
DTSTAMP:20260424T084344
CREATED:20220825T183836Z
LAST-MODIFIED:20221115T174307Z
UID:8373-1669496400-1669500000@www.whitehorse.ca
SUMMARY:Basketball
DESCRIPTION:A time to come and practice your basketball skills.  Basketballs provided with collateral. \n 
URL:https://www.whitehorse.ca/event/basketball-5-2022-11-26-3/
LOCATION:Powerade Flexihall
CATEGORIES:Flexi Activities
END:VEVENT
BEGIN:VEVENT
DTSTART;VALUE=DATE:20221128
DTEND;VALUE=DATE:20221129
DTSTAMP:20260424T084344
CREATED:20221115T222604Z
LAST-MODIFIED:20221116T231559Z
UID:9587-1669593600-1669679999@www.whitehorse.ca
SUMMARY:Second Public Hearing - Official Community Plan Adopting Bylaw
DESCRIPTION:City Council has reviewed the proposed Whitehorse 2040: Official Community Plan. Following their review\, they have made a number of amendments which could impact you. \nAs a result of these changes\, a date for a second Public Hearing is now scheduled for November 28\, 2022. \nRead the Proposed Whitehorse 2040 Official Community Plan and learn more about the changes at: EngageWhitehorse.ca/ocp \nThe Official Community Plan (OCP) is the City’s highest-level planning document\, and will set the direction for Whitehorse until 2040.
URL:https://www.whitehorse.ca/event/second-public-hearing-whitehorse-2040-official-community-plan-review/
CATEGORIES:Government,Public Consultation
END:VEVENT
BEGIN:VEVENT
DTSTART;VALUE=DATE:20221128
DTEND;VALUE=DATE:20221129
DTSTAMP:20260424T084344
CREATED:20221115T225737Z
LAST-MODIFIED:20221116T232740Z
UID:9589-1669593600-1669679999@www.whitehorse.ca
SUMMARY:Public Input Session - 2023-2026 Capital Budget
DESCRIPTION:The Capital Budget sets out a four-year spending plan for the City’s capital development\, which includes key municipal services such as water and waste\, parks and trails\, recreation\, and transit. \nHave your say in the process \nLearn more about the budget at: whitehorse.ca/budget \nEmail input to budgetpublicinput@whitehorse.ca by 5:30 p.m. on November 28\, 2022. \nAppear at the Public Input Session on Monday\, November 28 at 5:30 p.m. \nResidents can participate by attending in person\, or calling in. For more information\, please contact legsvcs@whitehorse.ca or 668-8611.
URL:https://www.whitehorse.ca/event/2023-2026-capital-budget-feedback/
CATEGORIES:Government,Public Consultation
END:VEVENT
BEGIN:VEVENT
DTSTART;TZID=UTC:20221128T173000
DTEND;TZID=UTC:20221128T173000
DTSTAMP:20260424T084344
CREATED:20220528T015641Z
LAST-MODIFIED:20221125T234446Z
UID:1854-1669656600-1669656600@www.whitehorse.ca
SUMMARY:Regular Council Meeting
DESCRIPTION:
URL:https://www.whitehorse.ca/event/regular-council-meeting-10/
CATEGORIES:Government
END:VEVENT
END:VCALENDAR