BEGIN:VCALENDAR
VERSION:2.0
PRODID:-//City of Whitehorse - ECPv6.15.17.1//NONSGML v1.0//EN
CALSCALE:GREGORIAN
METHOD:PUBLISH
X-ORIGINAL-URL:https://www.whitehorse.ca
X-WR-CALDESC:Events for City of Whitehorse
REFRESH-INTERVAL;VALUE=DURATION:PT1H
X-Robots-Tag:noindex
X-PUBLISHED-TTL:PT1H
BEGIN:VTIMEZONE
TZID:America/Whitehorse
BEGIN:STANDARD
TZOFFSETFROM:-0700
TZOFFSETTO:-0700
TZNAME:MST
DTSTART:20230101T000000
END:STANDARD
END:VTIMEZONE
BEGIN:VEVENT
DTSTART;TZID=America/Whitehorse:20240903T080000
DTEND;TZID=America/Whitehorse:20241009T170000
DTSTAMP:20260420T061529
CREATED:20240830T185412Z
LAST-MODIFIED:20240830T215135Z
UID:22650-1725350400-1728493200@www.whitehorse.ca
SUMMARY:2024 Municipal Election - Online Registration
DESCRIPTION:The 2024 Municipal Election is on Thursday\, October 17. \nIndividuals can register to vote online\, in-person\, or by mail starting September 3 until October 9. \nVisit whitehorse.ca/election for election information.
URL:https://www.whitehorse.ca/event/2024-municipal-election-online-registration/
CATEGORIES:Government
ATTACH;FMTTYPE=image/jpeg:https://www.whitehorse.ca/wp-content/uploads/2024/07/election-buttons_register.jpg
END:VEVENT
BEGIN:VEVENT
DTSTART;TZID=America/Whitehorse:20241004T160000
DTEND;TZID=America/Whitehorse:20241004T190000
DTSTAMP:20260420T061529
CREATED:20240918T175712Z
LAST-MODIFIED:20240918T181602Z
UID:22838-1728057600-1728068400@www.whitehorse.ca
SUMMARY:CGC Youth Club Open House
DESCRIPTION:CGC Youth Club Open House\nFriday October 4\n4pm-7PM\nCanada Games Centre – Youth Club\nCheck out our Youth Club\, explore Fall programming\, play games\, meet Youth focused Community Groups\, and connect with CGC staff. \nSee you there!
URL:https://www.whitehorse.ca/event/cgc-youth-club-open-house/
LOCATION:Canada Games Centre
CATEGORIES:CGC Special Events,Special Events
ATTACH;FMTTYPE=image/jpeg:https://www.whitehorse.ca/wp-content/uploads/2024/09/Youth-Open-House-CGC.jpg
END:VEVENT
BEGIN:VEVENT
DTSTART;TZID=America/Whitehorse:20241010T080000
DTEND;TZID=America/Whitehorse:20241010T200000
DTSTAMP:20260420T061529
CREATED:20240830T215302Z
LAST-MODIFIED:20240830T215345Z
UID:22660-1728547200-1728590400@www.whitehorse.ca
SUMMARY:2024 Municipal Election - Advance Poll
DESCRIPTION:The 2024 Municipal Election is Thursday\, October 17. \nThe advance poll will be open Thursday\, October 10 from 8 a.m. to 8 p.m. \nVisit whitehorse.ca/election for election information. \n 
URL:https://www.whitehorse.ca/event/2024-municipal-election-advance-poll/
CATEGORIES:Government
ATTACH;FMTTYPE=image/jpeg:https://www.whitehorse.ca/wp-content/uploads/2024/07/election-buttons_voter-1.jpg
END:VEVENT
BEGIN:VEVENT
DTSTART;VALUE=DATE:20241014
DTEND;VALUE=DATE:20241015
DTSTAMP:20260420T061529
CREATED:20240625T181356Z
LAST-MODIFIED:20240625T181356Z
UID:22181-1728864000-1728950399@www.whitehorse.ca
SUMMARY:Thanksgiving Day
DESCRIPTION:Most City facilities and services including the Canada Games Centre will be closed on Monday\, October 14. \nWeekend service will be in effect for Transit\, the Waste Management Facility will be open\, and curbside collection will continue as normal.
URL:https://www.whitehorse.ca/event/thanksgiving-day-2/
CATEGORIES:Government
ATTACH;FMTTYPE=image/jpeg:https://www.whitehorse.ca/wp-content/uploads/2024/06/Thanksgiving-scaled.jpg
END:VEVENT
BEGIN:VEVENT
DTSTART;TZID=America/Whitehorse:20241017T080000
DTEND;TZID=America/Whitehorse:20241017T200000
DTSTAMP:20260420T061529
CREATED:20240830T215750Z
LAST-MODIFIED:20240830T215750Z
UID:22661-1729152000-1729195200@www.whitehorse.ca
SUMMARY:2024 Municipal Election - Election Day
DESCRIPTION:The 2024 Municipal Election is on Thursday\, October 17. \nPolls will be open from 8 a.m. to 8 p.m. at locations around Whitehorse. \nThe special ballot poll closes at 2 p.m. All special ballots must be received by 2 p.m. on Election Day (either received through mail or in the drop boxes). \nPreliminary results will be available and posted on the site on Election Day after the polls close and the votes are counted. \nVisit whitehorse.ca/election for election information. \n 
URL:https://www.whitehorse.ca/event/2024-municipal-election-election-day/
CATEGORIES:Government
ATTACH;FMTTYPE=image/jpeg:https://www.whitehorse.ca/wp-content/uploads/2024/07/election-buttons_voter-1.jpg
END:VEVENT
BEGIN:VEVENT
DTSTART;TZID=America/Whitehorse:20241017T160000
DTEND;TZID=America/Whitehorse:20241017T190000
DTSTAMP:20260420T061529
CREATED:20241008T215258Z
LAST-MODIFIED:20241008T215258Z
UID:23021-1729180800-1729191600@www.whitehorse.ca
SUMMARY:Traditional Meal Making
DESCRIPTION:With support from the City\, the Whitehorse Aboriginal Women’s Circle is hosting a Traditional Meal Making workshop for youth ages 12 to 18. The session will be held on Oct. 17 from 4 p.m. to 7 p.m. in the Frank Slim Building at Shipyards Park. \nTo register or learn more\, contact Amber at 336-7531 or email csp@wawc.ca
URL:https://www.whitehorse.ca/event/traditional-meal-making/
LOCATION:Shipyards Park
CATEGORIES:Government
ATTACH;FMTTYPE=image/jpeg:https://www.whitehorse.ca/wp-content/uploads/2024/10/Intergenerational-Meal-Making_socials-1630x860-1.jpg
END:VEVENT
BEGIN:VEVENT
DTSTART;TZID=America/Whitehorse:20241031T160000
DTEND;TZID=America/Whitehorse:20241031T200000
DTSTAMP:20260420T061529
CREATED:20241015T200510Z
LAST-MODIFIED:20241023T224222Z
UID:23071-1730390400-1730404800@www.whitehorse.ca
SUMMARY:Youth Halloween Party
DESCRIPTION:Youth Halloween Party \nThursday\, October 31\nJoin the City of Whitehorse and BGC Yukon for games\, pumpkin painting\, a movie\, and pizza! \nMount McIntyre Recreation Centre\n4 pm to 8 pm\nYouth ages 10 to 17 \n4 – 5 pm\nPumpkin painting and crafts \n5 – 5:30 pm\nPizza! \n5:30 – 7:30 pm\nMovie Despicable Me 4\n(kids can still colour\, do word searches and continue with crafts) \n7:30 to 8 pm\nWrap-up
URL:https://www.whitehorse.ca/event/youth-halloween-party/
LOCATION:Mount McIntyre Recreation Centre\, 1 Sumanik Drive\, Whitehorse\, Yukon\, Canada
CATEGORIES:Government,Special Events
ATTACH;FMTTYPE=image/jpeg:https://www.whitehorse.ca/wp-content/uploads/2024/04/Halloween-Party-Poster-invite-2024_GL.jpg
END:VEVENT
END:VCALENDAR