BEGIN:VCALENDAR
VERSION:2.0
PRODID:-//City of Whitehorse - ECPv6.15.17.1//NONSGML v1.0//EN
CALSCALE:GREGORIAN
METHOD:PUBLISH
X-WR-CALNAME:City of Whitehorse
X-ORIGINAL-URL:https://www.whitehorse.ca
X-WR-CALDESC:Events for City of Whitehorse
REFRESH-INTERVAL;VALUE=DURATION:PT1H
X-Robots-Tag:noindex
X-PUBLISHED-TTL:PT1H
BEGIN:VTIMEZONE
TZID:America/Whitehorse
BEGIN:STANDARD
TZOFFSETFROM:-0700
TZOFFSETTO:-0700
TZNAME:MST
DTSTART:20210101T000000
END:STANDARD
END:VTIMEZONE
BEGIN:VTIMEZONE
TZID:UTC
BEGIN:STANDARD
TZOFFSETFROM:+0000
TZOFFSETTO:+0000
TZNAME:UTC
DTSTART:20210101T000000
END:STANDARD
END:VTIMEZONE
BEGIN:VEVENT
DTSTART;TZID=America/Whitehorse:20220717T100000
DTEND;TZID=America/Whitehorse:20220717T120000
DTSTAMP:20260420T044045
CREATED:20220718T182207Z
LAST-MODIFIED:20220829T215003Z
UID:4767-1658052000-1658059200@www.whitehorse.ca
SUMMARY:Family Pucks n Sticks
DESCRIPTION:Ages:  Children up to age 9 accompanied on ice by an adult. \nPractice skating\, stick handling and shooting skills. Pick-up games of hockey are not allowed during this time.\nHelmets and gloves are mandatory.
URL:https://www.whitehorse.ca/event/family-pucks-n-sticks/2022-07-17/
LOCATION:Northwestel Arena
CATEGORIES:Skating
END:VEVENT
BEGIN:VEVENT
DTSTART;TZID=America/Whitehorse:20220717T123000
DTEND;TZID=America/Whitehorse:20220717T143000
DTSTAMP:20260420T044045
CREATED:20220718T182702Z
LAST-MODIFIED:20220829T215158Z
UID:4775-1658061000-1658068200@www.whitehorse.ca
SUMMARY:Public Skate
DESCRIPTION:A time for everyone to grab their skates and enjoy our indoor facility.\nHelmets are strongly recommended for children.
URL:https://www.whitehorse.ca/event/public-skate/2022-07-17/
LOCATION:Northwestel Arena
CATEGORIES:Skating
END:VEVENT
BEGIN:VEVENT
DTSTART;TZID=UTC:20220718T173000
DTEND;TZID=UTC:20220718T173000
DTSTAMP:20260420T044045
CREATED:20220528T013637Z
LAST-MODIFIED:20220718T212653Z
UID:1837-1658165400-1658165400@www.whitehorse.ca
SUMMARY:Standing Committee Meeting
DESCRIPTION:
URL:https://www.whitehorse.ca/event/standing-committee-meeting-4/
CATEGORIES:Government
END:VEVENT
END:VCALENDAR