BEGIN:VCALENDAR
VERSION:2.0
PRODID:-//City of Whitehorse - ECPv6.15.17.1//NONSGML v1.0//EN
CALSCALE:GREGORIAN
METHOD:PUBLISH
X-WR-CALNAME:City of Whitehorse
X-ORIGINAL-URL:https://www.whitehorse.ca
X-WR-CALDESC:Events for City of Whitehorse
REFRESH-INTERVAL;VALUE=DURATION:PT1H
X-Robots-Tag:noindex
X-PUBLISHED-TTL:PT1H
BEGIN:VTIMEZONE
TZID:America/Whitehorse
BEGIN:STANDARD
TZOFFSETFROM:-0700
TZOFFSETTO:-0700
TZNAME:MST
DTSTART:20210101T000000
END:STANDARD
END:VTIMEZONE
BEGIN:VTIMEZONE
TZID:UTC
BEGIN:STANDARD
TZOFFSETFROM:+0000
TZOFFSETTO:+0000
TZNAME:UTC
DTSTART:20210101T000000
END:STANDARD
END:VTIMEZONE
BEGIN:VEVENT
DTSTART;TZID=America/Whitehorse:20221106T070000
DTEND;TZID=America/Whitehorse:20221106T130000
DTSTAMP:20260420T190222
CREATED:20220824T190404Z
LAST-MODIFIED:20221026T165741Z
UID:9261-1667718000-1667739600@www.whitehorse.ca
SUMMARY:Family Swim
DESCRIPTION:Spend family time together in the Leisure Pool. All children must be with an adult and all adults must be with children. Limited features and some toys available.\nPlease note: Children 0-6 years must be within arms’ reach of an adult at all times\, and a ratio of 1 adult to 3 children is enforced.
URL:https://www.whitehorse.ca/event/family-swim-7-2022-11-06/
LOCATION:Leisure Pool
CATEGORIES:Swimming
END:VEVENT
BEGIN:VEVENT
DTSTART;TZID=UTC:20221107T173000
DTEND;TZID=UTC:20221107T173000
DTSTAMP:20260420T190222
CREATED:20220528T015442Z
LAST-MODIFIED:20221104T215935Z
UID:1851-1667842200-1667842200@www.whitehorse.ca
SUMMARY:Standing Committee Meeting
DESCRIPTION:
URL:https://www.whitehorse.ca/event/standing-committee-meeting-9/
CATEGORIES:Government
END:VEVENT
BEGIN:VEVENT
DTSTART;VALUE=DATE:20221111
DTEND;VALUE=DATE:20221112
DTSTAMP:20260420T190222
CREATED:20221031T222648Z
LAST-MODIFIED:20221109T221546Z
UID:9506-1668124800-1668211199@www.whitehorse.ca
SUMMARY:Remembrance Day
DESCRIPTION:The Canada Games Centre will be open with reduced hours from 1 p.m. to 6 p.m. \nRemembrance day Ceremony  begins at 10:25 AM / Drop-in activities begin at 1 PM \nFree shuttle services between Takhini Arena and the Canada Games Centre from 8 AM-10:15 AM & 11:30 AM-1 PM
URL:https://www.whitehorse.ca/event/remembrance-day-2/
LOCATION:Canada Games Centre
CATEGORIES:Field Activities,Fitness,Flexi Activities,Holidays,Skating,Swimming
ATTACH;FMTTYPE=image/jpeg:https://www.whitehorse.ca/wp-content/uploads/2022/10/Remembrance-Day.jpg
END:VEVENT
BEGIN:VEVENT
DTSTART;TZID=America/Whitehorse:20221111T130000
DTEND;TZID=America/Whitehorse:20221111T154500
DTSTAMP:20260420T190222
CREATED:20220825T163942Z
LAST-MODIFIED:20221031T181057Z
UID:9499-1668171600-1668181500@www.whitehorse.ca
SUMMARY:Family Pucks n Sticks
DESCRIPTION:Ages:  Children up to age 9 accompanied on ice by an adult. \nPractice skating\, stick handling and shooting skills. Pick-up games of hockey are not allowed during this time.\nHelmets and gloves are mandatory.
URL:https://www.whitehorse.ca/event/family-pucks-n-sticks-3-2022-11-11/
LOCATION:Northwestel Arena
CATEGORIES:Skating
END:VEVENT
BEGIN:VEVENT
DTSTART;TZID=America/Whitehorse:20221111T130000
DTEND;TZID=America/Whitehorse:20221111T160000
DTSTAMP:20260420T190222
CREATED:20220824T190404Z
LAST-MODIFIED:20221031T183659Z
UID:9500-1668171600-1668182400@www.whitehorse.ca
SUMMARY:Family Swim
DESCRIPTION:Spend family time together in the Leisure Pool. All children must be with an adult and all adults must be with children. Limited features and some toys available.\nPlease note: Children 0-6 years must be within arms’ reach of an adult at all times\, and a ratio of 1 adult to 3 children is enforced.
URL:https://www.whitehorse.ca/event/family-swim-7-2022-11-11/
LOCATION:Leisure Pool
CATEGORIES:Swimming
END:VEVENT
BEGIN:VEVENT
DTSTART;TZID=America/Whitehorse:20221111T130000
DTEND;TZID=America/Whitehorse:20221111T180000
DTSTAMP:20260420T190222
CREATED:20220824T181709Z
LAST-MODIFIED:20221031T184045Z
UID:9502-1668171600-1668189600@www.whitehorse.ca
SUMMARY:Hot Tub\, Sauna & Steam Room
DESCRIPTION:Capacity: 20 people\nAvailable on a first come first serve basis.\nRecommend maximum stay of 15 minutes for adults and 5 minutes for children. \nHot tub capacities are reduced during lesson times for the following:\nSundays 9:30 AM – 1:00 PM\nMondays 8:45 AM – 11:00 AM\nTuesdays 3:30 PM – 6:15 PM\nThursdays 3:30 PM – 6:15 PM\nSaturdays 10:00 AM – 1:00 PM
URL:https://www.whitehorse.ca/event/hot-tub-sauna-steam-room-6-2022-11-11/
LOCATION:Swimming Pool
CATEGORIES:Swimming
END:VEVENT
BEGIN:VEVENT
DTSTART;TZID=America/Whitehorse:20221111T130000
DTEND;TZID=America/Whitehorse:20221111T180000
DTSTAMP:20260420T190222
CREATED:20220825T162105Z
LAST-MODIFIED:20221031T181027Z
UID:9496-1668171600-1668189600@www.whitehorse.ca
SUMMARY:Public Skate
DESCRIPTION:A time for everyone to grab their skates and enjoy our indoor facility.\nHelmets are strongly recommended for children.
URL:https://www.whitehorse.ca/event/public-skate-2-2022-11-11-2/
LOCATION:ATCO Ice
CATEGORIES:Skating
END:VEVENT
BEGIN:VEVENT
DTSTART;TZID=America/Whitehorse:20221111T130000
DTEND;TZID=America/Whitehorse:20221111T180000
DTSTAMP:20260420T190222
CREATED:20220825T171828Z
LAST-MODIFIED:20221031T185637Z
UID:9504-1668171600-1668189600@www.whitehorse.ca
SUMMARY:Families on the Move
DESCRIPTION:A time for caregivers with young children to explore\, create\, imagine\, and play together. Toys and equipment provided. This activity has limited space\, so please check in at Reception prior to use to ensure availability.
URL:https://www.whitehorse.ca/event/families-on-the-move-10-2022-11-11-2/
LOCATION:Coca-Cola Fieldhouse
CATEGORIES:Field Activities
END:VEVENT
BEGIN:VEVENT
DTSTART;TZID=America/Whitehorse:20221111T130000
DTEND;TZID=America/Whitehorse:20221111T180000
DTSTAMP:20260420T190222
CREATED:20220825T172954Z
LAST-MODIFIED:20221031T185756Z
UID:9505-1668171600-1668189600@www.whitehorse.ca
SUMMARY:Soccer
DESCRIPTION:A time to come and practice your soccer skills.
URL:https://www.whitehorse.ca/event/soccer-6-2022-11-11/
LOCATION:Coca-Cola Fieldhouse
CATEGORIES:Field Activities
END:VEVENT
BEGIN:VEVENT
DTSTART;TZID=America/Whitehorse:20221111T130000
DTEND;TZID=America/Whitehorse:20221111T180000
DTSTAMP:20260420T190222
CREATED:20221018T204252Z
LAST-MODIFIED:20221031T180951Z
UID:9362-1668171600-1668189600@www.whitehorse.ca
SUMMARY:Lane Swim
DESCRIPTION:Ages: 12+years. \nThe lap pool is set up for length swimming in double lanes. Swim in a circular pattern. Know your speed and choose the appropriate lane.
URL:https://www.whitehorse.ca/event/lane-swim-8-2022-11-11/
LOCATION:Lap Pool
CATEGORIES:Swimming
END:VEVENT
BEGIN:VEVENT
DTSTART;TZID=America/Whitehorse:20221111T160000
DTEND;TZID=America/Whitehorse:20221111T180000
DTSTAMP:20260420T190222
CREATED:20220825T162935Z
LAST-MODIFIED:20221031T181124Z
UID:9498-1668182400-1668189600@www.whitehorse.ca
SUMMARY:Adult Shinny
DESCRIPTION:Ages: 18+ years\nJoin a pick-up game of non-contact hockey. Participants must have a “shinny” wristband. Full equipment is required and helmets are mandatory. Max 20 participants + 2 goalies.
URL:https://www.whitehorse.ca/event/adult-shinny-2022-11-11-2/
LOCATION:Northwestel Arena
CATEGORIES:Skating
END:VEVENT
END:VCALENDAR