BEGIN:VCALENDAR
VERSION:2.0
PRODID:-//City of Whitehorse - ECPv6.15.17.1//NONSGML v1.0//EN
CALSCALE:GREGORIAN
METHOD:PUBLISH
X-ORIGINAL-URL:https://www.whitehorse.ca
X-WR-CALDESC:Events for City of Whitehorse
REFRESH-INTERVAL;VALUE=DURATION:PT1H
X-Robots-Tag:noindex
X-PUBLISHED-TTL:PT1H
BEGIN:VTIMEZONE
TZID:America/Whitehorse
BEGIN:STANDARD
TZOFFSETFROM:-0700
TZOFFSETTO:-0700
TZNAME:MST
DTSTART:20230101T000000
END:STANDARD
END:VTIMEZONE
BEGIN:VEVENT
DTSTART;TZID=America/Whitehorse:20240903T080000
DTEND;TZID=America/Whitehorse:20241009T170000
DTSTAMP:20260424T124019
CREATED:20240830T185412Z
LAST-MODIFIED:20240830T215135Z
UID:22650-1725350400-1728493200@www.whitehorse.ca
SUMMARY:2024 Municipal Election - Online Registration
DESCRIPTION:The 2024 Municipal Election is on Thursday\, October 17. \nIndividuals can register to vote online\, in-person\, or by mail starting September 3 until October 9. \nVisit whitehorse.ca/election for election information.
URL:https://www.whitehorse.ca/event/2024-municipal-election-online-registration/
CATEGORIES:Government
ATTACH;FMTTYPE=image/jpeg:https://www.whitehorse.ca/wp-content/uploads/2024/07/election-buttons_register.jpg
END:VEVENT
BEGIN:VEVENT
DTSTART;TZID=America/Whitehorse:20240910T083000
DTEND;TZID=America/Whitehorse:20240926T120000
DTSTAMP:20260424T124019
CREATED:20240830T203657Z
LAST-MODIFIED:20240830T203944Z
UID:22656-1725957000-1727352000@www.whitehorse.ca
SUMMARY:2024 Municipal Election - Nominations
DESCRIPTION:The 2024 Municipal Election is on Thursday\, October 17. \nNominations for Mayor and Council open on September 10. \nNomination papers are due at City Hall on Thursday\, September 26 between 10 a.m. and 12 p.m. \nPlease note that late nominations will NOT be accepted under any circumstances. \nVisit whitehorse.ca/election for the Candidate Information Package and election information.
URL:https://www.whitehorse.ca/event/2024-municipal-election-nominations/
CATEGORIES:Government
ATTACH;FMTTYPE=image/jpeg:https://www.whitehorse.ca/wp-content/uploads/2024/07/election-buttons_voter-1.jpg
END:VEVENT
BEGIN:VEVENT
DTSTART;TZID=America/Whitehorse:20240916T173000
DTEND;TZID=America/Whitehorse:20240916T173000
DTSTAMP:20260424T124020
CREATED:20240424T212607Z
LAST-MODIFIED:20240506T195941Z
UID:21710-1726507800-1726507800@www.whitehorse.ca
SUMMARY:City Council Meeting
DESCRIPTION:Council Chambers is open to the public and delegates may attend in-person. \nIf you wish to present to council or committee\, please notify Legislative Services by 12 p.m. on the day of the Council or Committee meeting at legsvcs@whitehorse.ca. \nWatch Council meetings at bit.ly/2UmF1ty or on Northwestel Channel 209. More info at: whitehorse.ca/meetings \nCity Hall is located at 2121 2nd Avenue. Please use the Steele Street entrance.
URL:https://www.whitehorse.ca/event/city-council-meeting-4-2024-09-16/
LOCATION:Whitehorse City Hall\, 2121 2nd Avenue\, Whitehorse\, Yukon\, Y1A 1C2\, Canada
CATEGORIES:Government
END:VEVENT
BEGIN:VEVENT
DTSTART;TZID=America/Whitehorse:20240918T180000
DTEND;TZID=America/Whitehorse:20240918T200000
DTSTAMP:20260424T124020
CREATED:20240910T205640Z
LAST-MODIFIED:20240910T205640Z
UID:22756-1726682400-1726689600@www.whitehorse.ca
SUMMARY:Candidate Information Session
DESCRIPTION:The nomination period for the 2024 Whitehorse Municipal Election opened September 10. \nNomination forms for Mayor and Councillor positions are available online and at City Hall 2121 2nd Avenue\, during regular office hours\, Monday to Friday from 8:30 a.m. to 4:30 p.m. \nThe City will be hosting an in person candidate information session at City Hall on September 18 at 6 p.m.  Prospective candidates can contact elections@whitehorse.ca to register to attend the info session.
URL:https://www.whitehorse.ca/event/candidate-information-session/
CATEGORIES:Government
ATTACH;FMTTYPE=image/jpeg:https://www.whitehorse.ca/wp-content/uploads/2024/09/election-24_web-notice_v3.jpg
END:VEVENT
BEGIN:VEVENT
DTSTART;TZID=America/Whitehorse:20240919T180000
DTEND;TZID=America/Whitehorse:20240919T190000
DTSTAMP:20260424T124020
CREATED:20240911T220912Z
LAST-MODIFIED:20240911T221511Z
UID:22771-1726768800-1726772400@www.whitehorse.ca
SUMMARY:FireSmart Information Session #1
DESCRIPTION:The City of Whitehorse invites residents to attend two public information sessions about local FireSmart initiatives. \nLearn about FireSmart home assessments and how to reduce the risk of wildfires to your home. Find out about the public FireSmart activities the City is undertaking to reduce wildfire risks\, including initiatives planned for this fall in local neighbourhoods. \nAsk questions and learn from our dedicated FireSmart team about lessons learned from other municipalities and the work that is happening to reduce wildfire risks in Whitehorse. \nAnyone living in the city is welcome to attend this session! \nQuestions? Reach our FireSmart Coordinator at (867) 687-4512 or at firesmart@whitehorse.ca.
URL:https://www.whitehorse.ca/event/firesmart-information-session-1/
LOCATION:Mount McIntyre Recreation Centre\, 1 Sumanik Drive\, Whitehorse\, Yukon\, Canada
CATEGORIES:Government
END:VEVENT
END:VCALENDAR